BEGIN:VCALENDAR
VERSION:2.0
PRODID:-//Cap Magellan - ECPv6.15.20//NONSGML v1.0//EN
CALSCALE:GREGORIAN
METHOD:PUBLISH
X-ORIGINAL-URL:https://capmagellan.com
X-WR-CALDESC:Évènements pour Cap Magellan
REFRESH-INTERVAL;VALUE=DURATION:PT1H
X-Robots-Tag:noindex
X-PUBLISHED-TTL:PT1H
BEGIN:VTIMEZONE
TZID:Europe/Paris
BEGIN:DAYLIGHT
TZOFFSETFROM:+0100
TZOFFSETTO:+0200
TZNAME:CEST
DTSTART:20240331T010000
END:DAYLIGHT
BEGIN:STANDARD
TZOFFSETFROM:+0200
TZOFFSETTO:+0100
TZNAME:CET
DTSTART:20241027T010000
END:STANDARD
BEGIN:DAYLIGHT
TZOFFSETFROM:+0100
TZOFFSETTO:+0200
TZNAME:CEST
DTSTART:20250330T010000
END:DAYLIGHT
BEGIN:STANDARD
TZOFFSETFROM:+0200
TZOFFSETTO:+0100
TZNAME:CET
DTSTART:20251026T010000
END:STANDARD
BEGIN:DAYLIGHT
TZOFFSETFROM:+0100
TZOFFSETTO:+0200
TZNAME:CEST
DTSTART:20260329T010000
END:DAYLIGHT
BEGIN:STANDARD
TZOFFSETFROM:+0200
TZOFFSETTO:+0100
TZNAME:CET
DTSTART:20261025T010000
END:STANDARD
END:VTIMEZONE
BEGIN:VEVENT
DTSTART;VALUE=DATE:20250123
DTEND;VALUE=DATE:20250913
DTSTAMP:20260419T152845
CREATED:20250429T144335Z
LAST-MODIFIED:20250429T144335Z
UID:44084-1737590400-1757721599@capmagellan.com
SUMMARY:Parfums de Lisbonne 2025
DESCRIPTION:Du jeudi 23 janvier au vendredi 12 septembre \nDepuis 18 ans\, Parfums de Lisbonne jongle entre la capitale française et la capitale portugaise. Plus qu’un festival\, c’est un événement artistique et humain entre deux cultures qui se parlent\, se reconnaissent et s’enrichissent mutuellement. Porté par la compagnie bilingue Cá e Lá\, ce rendez-vous singulier revient en 2025 avec une édition vibrante autour d’un thème fort : Artivismes / Artivismos. \nProgramme complet : https://parfumsdelisbonne.com/programme/
URL:https://capmagellan.com/event/parfums-de-lisbonne-2025/
CATEGORIES:Convivialité,Exposition,Festival,Littérature,Portugal
ATTACH;FMTTYPE=image/webp:https://capmagellan.com/wp-content/uploads/2025/04/pdl25-cover-fb-ok-200dpi-mai-jui.webp
END:VEVENT
BEGIN:VEVENT
DTSTART;VALUE=DATE:20250321
DTEND;VALUE=DATE:20250331
DTSTAMP:20260419T152845
CREATED:20250310T114652Z
LAST-MODIFIED:20250310T114652Z
UID:43840-1742515200-1743379199@capmagellan.com
SUMMARY:21ᵉ Semaine Gastronomique Portugaise - Radio Alfa
DESCRIPTION:Du vendredi 21 mars au dimanche 30 mars\nSalle Vasco de Gama\n1 rue Vasco de Gama\, Jardin des Tuileries\, 94460 Valenton \nLe Festival de la Gastronomie portugaise revient à Valenton pour une 21e édition ! \nÀ LA DÉCOUVERTE DES SAVEURS DE LEIRIA\nDu 21 au 30 mars 2025\, la Salle Vasco da Gama accueille une nouvelle édition de ce rendez-vous incontournable pour tous les amateurs de bonne chère.\nCette année\, l’événement met à l’honneur les saveurs des spécialités de Leiria. Située à 140km au nord de Lisbonne\, cette capitale de district de 65 000 habitants est réputée pour sa gastronomie variée\, ses traditions et ses stations thermales.\nPour l’occasion\, les chefs de renom Alberto Vaz\, Lisa Silva et Ana Rita Lopes seront aux fourneaux. L’expérience à table est complétée par l’excellente cheffe de salle Adelaïde Matias et ses équipes. \nUNE EXPÉRIENCE CULINAIRE UNIQUE\nTous les jours\, à l’heure du déjeuner ou du dîner\, les visiteurs pourront déguster des plats traditionnels accompagnés d’une sélection des meilleurs vins portugais. Que vous soyez fin gourmet ou simple curieux culinaire\, ne manquez pas ce moment qui promet d’être\, encore une fois\,\nexceptionnel. Le jour de l’inauguration\, le vendredi 21 mars\, l’événement sera réservé à des personnalités du monde politique\, économique et culturel\, et ne sera pas ouvert au public. \nVous pouvez dès à présent réserver votre place en les appelant au 01 45 10 98 66. \nhttps://radioalfa.net/stec_event/festival-da-gastronomia-portuguesa/
URL:https://capmagellan.com/event/21%e1%b5%89-semaine-gastronomique-portugaise-radio-alfa/
LOCATION:Salle Vasco de Gama
CATEGORIES:Convivialité,Gastronomie
ATTACH;FMTTYPE=image/jpeg:https://capmagellan.com/wp-content/uploads/2025/03/festival-da-gastronomia-4x5-social-media.jpg
END:VEVENT
BEGIN:VEVENT
DTSTART;VALUE=DATE:20250325
DTEND;VALUE=DATE:20250405
DTSTAMP:20260419T152845
CREATED:20250310T115929Z
LAST-MODIFIED:20250310T115929Z
UID:43848-1742860800-1743811199@capmagellan.com
SUMMARY:Tournée de promotion du nouveau livre de Natalia Nunes
DESCRIPTION:Dates et lieux : \nBiblioteca Palácio Galveias (Lisboa) : 25/03/2025 de 19h à 20h30 \nInstitut Français du Portugal (Lisboa) : 26/03/2025 de 17h30 à 19h \nAula Aberta na Faculdade de Letras da Universidade de Coimbra : 03/04/2025 de 18h à 20h \nCafé do Teatro Académico de Gil Vicente (Coimbra) : 04/04/2025 de 18h30 à 20h \nTournée de promotion du nouveau livre de poésie bilingue de Natalia Nunes\, poète franco-portugaise : “Clés\, cloches et autres symboles / Chaves\, sinos e outros símbolos“. \nhttps://natalia-nunes.com/actualites/apresentacao-do-livro-chaves-sinos-e-outros-simbolos-em-portugal
URL:https://capmagellan.com/event/tournee-de-promotion-du-nouveau-livre-de-natalia-nunes/
ATTACH;FMTTYPE=image/jpeg:https://capmagellan.com/wp-content/uploads/2025/03/presentation-livre-portugal-1200x628.jpg
END:VEVENT
END:VCALENDAR