BEGIN:VCALENDAR
VERSION:2.0
PRODID:-//Cap Magellan - ECPv6.15.20//NONSGML v1.0//EN
CALSCALE:GREGORIAN
METHOD:PUBLISH
X-ORIGINAL-URL:https://capmagellan.com
X-WR-CALDESC:Évènements pour Cap Magellan
REFRESH-INTERVAL;VALUE=DURATION:PT1H
X-Robots-Tag:noindex
X-PUBLISHED-TTL:PT1H
BEGIN:VTIMEZONE
TZID:Europe/Paris
BEGIN:DAYLIGHT
TZOFFSETFROM:+0100
TZOFFSETTO:+0200
TZNAME:CEST
DTSTART:20240331T010000
END:DAYLIGHT
BEGIN:STANDARD
TZOFFSETFROM:+0200
TZOFFSETTO:+0100
TZNAME:CET
DTSTART:20241027T010000
END:STANDARD
BEGIN:DAYLIGHT
TZOFFSETFROM:+0100
TZOFFSETTO:+0200
TZNAME:CEST
DTSTART:20250330T010000
END:DAYLIGHT
BEGIN:STANDARD
TZOFFSETFROM:+0200
TZOFFSETTO:+0100
TZNAME:CET
DTSTART:20251026T010000
END:STANDARD
BEGIN:DAYLIGHT
TZOFFSETFROM:+0100
TZOFFSETTO:+0200
TZNAME:CEST
DTSTART:20260329T010000
END:DAYLIGHT
BEGIN:STANDARD
TZOFFSETFROM:+0200
TZOFFSETTO:+0100
TZNAME:CET
DTSTART:20261025T010000
END:STANDARD
END:VTIMEZONE
BEGIN:VEVENT
DTSTART;VALUE=DATE:20250123
DTEND;VALUE=DATE:20250913
DTSTAMP:20260421T115659
CREATED:20250429T144335Z
LAST-MODIFIED:20250429T144335Z
UID:44084-1737590400-1757721599@capmagellan.com
SUMMARY:Parfums de Lisbonne 2025
DESCRIPTION:Du jeudi 23 janvier au vendredi 12 septembre \nDepuis 18 ans\, Parfums de Lisbonne jongle entre la capitale française et la capitale portugaise. Plus qu’un festival\, c’est un événement artistique et humain entre deux cultures qui se parlent\, se reconnaissent et s’enrichissent mutuellement. Porté par la compagnie bilingue Cá e Lá\, ce rendez-vous singulier revient en 2025 avec une édition vibrante autour d’un thème fort : Artivismes / Artivismos. \nProgramme complet : https://parfumsdelisbonne.com/programme/
URL:https://capmagellan.com/event/parfums-de-lisbonne-2025/
CATEGORIES:Convivialité,Exposition,Festival,Littérature,Portugal
ATTACH;FMTTYPE=image/webp:https://capmagellan.com/wp-content/uploads/2025/04/pdl25-cover-fb-ok-200dpi-mai-jui.webp
END:VEVENT
BEGIN:VEVENT
DTSTART;VALUE=DATE:20250412
DTEND;VALUE=DATE:20250707
DTSTAMP:20260421T115659
CREATED:20250429T142853Z
LAST-MODIFIED:20250429T142853Z
UID:44081-1744416000-1751846399@capmagellan.com
SUMMARY:« PINTAR O BRASIL » DE JOSÉ ANTÔNIO DA SILVA
DESCRIPTION:Du 12 avril au 6 juillet 2025\nMusée de Grenoble\n5 place Lavalette\, 38000 Grenoble \nÀ travers cette exposition monographique dédiée à l’artiste brésilien\, on découvre une quarantaine de tableaux issus de collections brésiliennes. Personnalité issue du monde paysan de la région de São Paulo\, José Antônio da Silva est une incarnation de l’artiste populaire engagé\, dont l’originalité lui a valu parfois le surnom de « Van Gogh brésilien ».
URL:https://capmagellan.com/event/pintar-o-brasil-de-jose-antonio-da-silva/
CATEGORIES:Art,Convivialité,Exposition
ATTACH;FMTTYPE=image/png:https://capmagellan.com/wp-content/uploads/2025/04/30495935.png
END:VEVENT
BEGIN:VEVENT
DTSTART;TZID=Europe/Paris:20250413T160000
DTEND;TZID=Europe/Paris:20250413T190000
DTSTAMP:20260421T115659
CREATED:20250402T103505Z
LAST-MODIFIED:20250402T104016Z
UID:43991-1744560000-1744570800@capmagellan.com
SUMMARY:RENCONTRE Claudia Costa au Château Lorenz
DESCRIPTION:Dimanche 13 avril 2025\, 16h\nChâteau Lorenz\n11 avenue Georges Clemenceau\, 94360 Bry-sur-Marne\n\nParticipante à la troisième saison de ”The Voice” et sélectionnée par Mika\, puis par Florent Pagny\, Claudia Costa fut d’abord remarquée par Pascal Sevran\, qui en fera sa chanteuse de Fado dans son émission ”Entrée d’Artistes” sur France 2 et commence alors à véhiculer « son Fado » en travaillant avec différentes associations mais aussi sur les scènes parisiennes.\nElle sera accompagnée par Paulo CACHINHO\, à la guitare portugaise & Pedro ABRUNHOSA\, à la viola de Fado.\n\nL’équipe habituelle sera présente pour vous accueillir et vous servir\, lors des pauses :\n► Dan Inger dos Santos (Daniel dos Santos)\, à la présentation\, au chant \, etc\, etc…\n► Patrick Pernet\, au piano\, qui se fera un plaisir d’accompagner ceux qui le lui demanderont\n► Marie-Laure & Mena à l’entrée qui vous accueilleront avec le sourire\n► Celina & David au  ”Coin Bar” vous serviront un super café dont ils ont le secret et/ou un bon pastel de nata\n► João Heitor au ”Coin Littérature” où vous trouverez des livres et des CDs sur le Fado et le Portugal\n► La ‘‘Boutique Ephémère” pour vos petits coups de cœur à petits prix.
URL:https://capmagellan.com/event/rencontre-avec-claudia-costa-au-chateau-lorenz/
LOCATION:Chateau Lorenz\, 11 avenue Georges Clemenceau\, Bry sur Marne\, 94360\, France
CATEGORIES:concert,Convivialité,Fado
ATTACH;FMTTYPE=image/jpeg:https://capmagellan.com/wp-content/uploads/2025/04/04-rmg-13-04-25-claudia-costa.jpg
END:VEVENT
END:VCALENDAR