BEGIN:VCALENDAR
VERSION:2.0
PRODID:-//Cap Magellan - ECPv6.15.20//NONSGML v1.0//EN
CALSCALE:GREGORIAN
METHOD:PUBLISH
X-WR-CALNAME:Cap Magellan
X-ORIGINAL-URL:https://capmagellan.com
X-WR-CALDESC:Évènements pour Cap Magellan
REFRESH-INTERVAL;VALUE=DURATION:PT1H
X-Robots-Tag:noindex
X-PUBLISHED-TTL:PT1H
BEGIN:VTIMEZONE
TZID:Europe/Paris
BEGIN:DAYLIGHT
TZOFFSETFROM:+0100
TZOFFSETTO:+0200
TZNAME:CEST
DTSTART:20240331T010000
END:DAYLIGHT
BEGIN:STANDARD
TZOFFSETFROM:+0200
TZOFFSETTO:+0100
TZNAME:CET
DTSTART:20241027T010000
END:STANDARD
BEGIN:DAYLIGHT
TZOFFSETFROM:+0100
TZOFFSETTO:+0200
TZNAME:CEST
DTSTART:20250330T010000
END:DAYLIGHT
BEGIN:STANDARD
TZOFFSETFROM:+0200
TZOFFSETTO:+0100
TZNAME:CET
DTSTART:20251026T010000
END:STANDARD
BEGIN:DAYLIGHT
TZOFFSETFROM:+0100
TZOFFSETTO:+0200
TZNAME:CEST
DTSTART:20260329T010000
END:DAYLIGHT
BEGIN:STANDARD
TZOFFSETFROM:+0200
TZOFFSETTO:+0100
TZNAME:CET
DTSTART:20261025T010000
END:STANDARD
BEGIN:DAYLIGHT
TZOFFSETFROM:+0100
TZOFFSETTO:+0200
TZNAME:CEST
DTSTART:20270328T010000
END:DAYLIGHT
BEGIN:STANDARD
TZOFFSETFROM:+0200
TZOFFSETTO:+0100
TZNAME:CET
DTSTART:20271031T010000
END:STANDARD
END:VTIMEZONE
BEGIN:VEVENT
DTSTART;VALUE=DATE:20250418
DTEND;VALUE=DATE:20260209
DTSTAMP:20260419T155325
CREATED:20250923T102449Z
LAST-MODIFIED:20251128T101210Z
UID:45488-1744934400-1770595199@capmagellan.com
SUMMARY:Exposition Amazonies à Lyon
DESCRIPTION:Jusqu’au 8 février 2026 au Musée des Confluences\n86 quai Perrache\, 69002 Lyon \nQuand on évoque l’Amazonie\, les images se bousculent. Mais imaginons-nous la diversité de celles et ceux qui habitent cette forêt ? Dans l’exposition\, les peuples ashaninka\, mebêngôkre (kayapo)\, wayana et apalaï prennent la parole pour nous raconter leur perception du monde et leurs luttes pour défendre leurs droits et leurs territoires. Par la diversité des objets et des témoignages relevés lors de missions de terrain\, l’exposition lève le voile sur une Amazonie plurielle et ancrée dans notre monde moderne. \nLien ves la billetrie: https://museedesconfluences.fr/fr/expositions/expositions-temporaires/amazonies
URL:https://capmagellan.com/event/amazonies/
LOCATION:Musée des Confluences 86 quai Perrache\, 69002 Lyon
CATEGORIES:Art,Exposition
ATTACH;FMTTYPE=image/jpeg:https://capmagellan.com/wp-content/uploads/2024/09/visuel-exposition-pour-le-site-web-1-2048x1448.jpg
END:VEVENT
BEGIN:VEVENT
DTSTART;VALUE=DATE:20250910
DTEND;VALUE=DATE:20260127
DTSTAMP:20260419T155325
CREATED:20250922T105422Z
LAST-MODIFIED:20250923T100513Z
UID:45454-1757462400-1769471999@capmagellan.com
SUMMARY:Tisser l'espace
DESCRIPTION:Jusqu’au 26 janvier 2026\nBourse de Commerce\, 2 rue de Viarmes\, 75001 Paris \nLa Bourse de Commerce accueille la première exposition personnelle en France de Lygia Pape\, figure de l’avant-garde brésilienne. À travers des fils de cuivre tendus dans l’espace\, elle plonge le spectateur dans une immersion sensorielle\, où l’œuvre prend forme selon le mouvement du visiteur. Cette installation emblématique incarne pleinement son concept de « tissage de l’espace ».
URL:https://capmagellan.com/event/tisser-lespace/
LOCATION:la Bourse   de Commerce\, 2 rue de Viarmes\,   75001 Paris
CATEGORIES:Art,Exposition
ATTACH;FMTTYPE=image/jpeg:https://capmagellan.com/wp-content/uploads/2023/07/Visuel-Exposition-Pour-le-site-web.jpg
END:VEVENT
BEGIN:VEVENT
DTSTART;VALUE=DATE:20250912
DTEND;VALUE=DATE:20251012
DTSTAMP:20260419T155325
CREATED:20250922T104100Z
LAST-MODIFIED:20250923T100009Z
UID:45451-1757635200-1760227199@capmagellan.com
SUMMARY:Le fil intangible
DESCRIPTION:Jusqu’au 11 octobre\nla galerie Mémoire de l’Avenir\, 45 rue Ramponeau\, 75020 Paris \nLa mémoire se confronte à un dilemme complexe : l’interaction entre l’esprit\, ses souvenirs mouvants\, et les fragments tangibles qui les façonnent. Cette tension est renforcée par les limites du langage\, et par les impressions intangibles qui relient le visible à l’invisible – constituant ainsi la trame de nos (hi)stories.
URL:https://capmagellan.com/event/le-fil-intangible/
LOCATION:Mémoire de l’Avenir\, 45 rue  Ramponeau\, 75020 Paris
CATEGORIES:Art,Exposition
ATTACH;FMTTYPE=image/jpeg:https://capmagellan.com/wp-content/uploads/2024/09/visuel-exposition-pour-le-site-web-1-2048x1448.jpg
END:VEVENT
BEGIN:VEVENT
DTSTART;VALUE=DATE:20250913
DTEND;VALUE=DATE:20251101
DTSTAMP:20260419T155325
CREATED:20250908T140952Z
LAST-MODIFIED:20250908T140952Z
UID:45289-1757721600-1761955199@capmagellan.com
SUMMARY:EXPOSITION Chansons de l’exil Portugais à l’aube de la Révolution des Œillets (1974)
DESCRIPTION:EXPOSITION CHANSONS DE L’EXIL PORTUGAIS À L’AUBE DE LA RÉVOLUTION DES ŒILLETS (1974) \nDu 13 septembre au 31 octobre 2025 \nà la Maison du Portugal – André de Gouveia\, \nCité internationale universitaire de Paris\, Bd Jourdan\, 75014 Paris \nEntrée libre \nL’INET-md (Université nouvelle de Lisbonne) propose\, dans le cadre du projet EXIMUS\, une exposition documentaire en français sur l’activité musicale de plusieurs chanteurs et musiciens portugais exilés en France sous la dictature de l’Estado novo (1933-1974)\, en particulier la jeune génération réfractaire aux guerres coloniales des années 1960 et 1970 en Angola\, au Mozambique et en Guinée-Bissau. À travers la vaste constellation de chansons nées de cet exil massif des Portugais\, qui fuient aussi la pauvreté imposée par le régime\, l’expoaussi la pauvreté imposée par le régime\, l’exposition présente le parcours de plusieurs figures de la musique engagée portugaise (comme José Mário Branco\, Luís Cília)\, au carrefour de nombreuses influences internationales\, et qui sont parfois méconnues aujourd’hui\, notamsont parfois méconnues aujourd’hui\, notamment des jeunes générations. \nLe projet EXIMUS – Musique et Exil\, financé par la Fundação para a Ciência e a Tecnologia\, a pour objectif d’ étudier les interactions ena pour objectif d’ étudier les interactions entre exil et création musicale et de sensibiliser aux défis contemporains de la mémoire de la résistance à ce qui fut la plus longue dictature d’Europe au XXè siècle. L’ exposition bénéficie du partenariat de la Maison du Portugal – André de Gouveia. Composée de douze panneaux incluant une cinquantaine d’illustrations (pochettes de discinquantaine d’illustrations (pochettes de disques\, tracts\, photographies)\, elle est accomques\, tracts\, photographies)\, elle est accompagnée d’un guide d’écoute en ligne permetpagnée d’un guide d’écoute en ligne permettant l’accès à quelques extraits sonores. \nProgramme et plus d’infos \n 
URL:https://capmagellan.com/event/exposition-chansons-de-lexil-portugais-a-laube-de-la-revolution-des-oeillets-1974/
CATEGORIES:Exposition,Folklore,Histoire
ATTACH;FMTTYPE=image/jpeg:https://capmagellan.com/wp-content/uploads/2025/09/expo-chansons-de-lexil-portugais.jpg
END:VEVENT
BEGIN:VEVENT
DTSTART;VALUE=DATE:20251011
DTEND;VALUE=DATE:20251012
DTSTAMP:20260419T155325
CREATED:20250911T125508Z
LAST-MODIFIED:20250911T125508Z
UID:45343-1760140800-1760227199@capmagellan.com
SUMMARY:13e Tournoi de Golf de l'Academia do Bacalhau de Paris
DESCRIPTION:13e Tournoi de Golf de l’Academia do Bacalhau de Paris\n11 octobre à partir de 13h30\nGolf de Lésigny-Réveillon\, Ferme des Hyverneaux\, 77150 Lésigny \nRejoignez l’APB pour un moment unique d’intégration\, de sport et de convivialité entre amis. Un cocktail dînatoire sera servi à partir de 20h. \nRéservation : https://abp.assoconnect.com/collect/description/582200-s-13-torneio-de-golfe-abp?fbclid=IwY2xjawL68RBleHRuA2FlbQIxMQABHsA9EhsU9WuWTVXyIGUVIKL1tLSN9PIrtZFVeX_zKv1MQGmUEWMvEyuLyrDM_aem_QxOu7k5C0JNXxC2fW4MjCw \nContact : resa@bacalhau.fr ;\nTéléphone +33 7 81 79 65 60 ;\nSite: bacalhau.fr
URL:https://capmagellan.com/event/13e-tournoi-de-golf-de-lacademia-do-bacalhau-de-paris/
CATEGORIES:Convivialité,Famille,Sport
ATTACH;FMTTYPE=image/jpeg:https://capmagellan.com/wp-content/uploads/2025/09/13e-tournoi-de-golf-de-lacademia-do-bacalhau-de-paris.jpg
END:VEVENT
BEGIN:VEVENT
DTSTART;TZID=Europe/Paris:20251011T133000
DTEND;TZID=Europe/Paris:20251011T220000
DTSTAMP:20260419T155325
CREATED:20250923T110218Z
LAST-MODIFIED:20250923T121319Z
UID:45495-1760189400-1760220000@capmagellan.com
SUMMARY:Tournoi de golf de l'APB
DESCRIPTION:Le 11 octobre à partir de 13 h 30\nGolf de Lésigny-Réveillon\, Ferme des Hyverneaux\, 77150 Lésigny \nRejoignez l’APB pour un moment unique d’intégration\, de sport et de convivialité entre amis. Un cocktail dînatoire sera servi à partir de 20 h \n Contact pour réservation : resa@bacalhau.fr\nTéléphone +33 7 81 79 65 60\nbacalhau.fr
URL:https://capmagellan.com/event/tournoi-de-golf-de-lapb/
LOCATION:Golf de Lésigny-Réveillon\, Ferme des Hyverneaux\, 77150 Lésigny
CATEGORIES:Sport
ATTACH;FMTTYPE=image/png:https://capmagellan.com/wp-content/uploads/2023/07/Visuel-Sport.png
END:VEVENT
BEGIN:VEVENT
DTSTART;TZID=Europe/Paris:20251011T200000
DTEND;TZID=Europe/Paris:20251011T230000
DTSTAMP:20260419T155325
CREATED:20250922T090940Z
LAST-MODIFIED:20250923T092927Z
UID:45431-1760212800-1760223600@capmagellan.com
SUMMARY:Concert tous ensemble pour le Cap-vert
DESCRIPTION:Samedi 11 octobre à 20h \nLa Cigale\, 120 Blvd Marguerite de Rochechouart\, 75018 Paris \nLe samedi 11 octobre 2025 à 20h à La Cigale : concert de solidarité pour le Cap-Vert\, regroupant artistes engagés pour soutenir les populations affectées par la tempête Erin. Morna\, batuku\, funaná… une soirée humaine\, festive et solidaire. Tous les profits seront reversés à des associations sur le terrain.
URL:https://capmagellan.com/event/concert-tous-ensemble-pour-le-cap-vert/
LOCATION:La Cigale – 120 Blvd Marguerite de Rochechouart\, 75018 Paris
CATEGORIES:Cap-Vert,concert
ATTACH;FMTTYPE=image/jpeg:https://capmagellan.com/wp-content/uploads/2023/07/Visuel-Concert-1.jpg
END:VEVENT
BEGIN:VEVENT
DTSTART;TZID=Europe/Paris:20251011T210000
DTEND;TZID=Europe/Paris:20251011T220000
DTSTAMP:20260419T155325
CREATED:20250922T101229Z
LAST-MODIFIED:20250923T092131Z
UID:45446-1760216400-1760220000@capmagellan.com
SUMMARY:Liniker à Lisbonne & Porto
DESCRIPTION:Samedi 11 octobre à 21h\nSuper Bock Arena\, Pavilhão Rosa Mota\, Porto \nEn octobre 2025\, la chanteuse brésilienne Liniker sera en tournée pour présenter Caju\, son deuxième album\, le 10 octobre à la MEO Arena de Lisbonne\, puis le 11 à la Super Bock Arena ¬- Pavilhão Rosa Mota de Porto. Après des dates déjà très remarquées à Londres\, Paris et Amsterdam\, elle revient dans son nom propre pour deux soirées puissantes\, sensibles et célébrées.
URL:https://capmagellan.com/event/liniker-a-lisbonne-porto-2/
LOCATION:Super Bock Arena\,   Pavilhão Rosa Mota\, Porto
CATEGORIES:Brésil,Concours,Musique,Portugal
ATTACH;FMTTYPE=image/jpeg:https://capmagellan.com/wp-content/uploads/2023/07/Visuel-Concert-1.jpg
END:VEVENT
END:VCALENDAR