BEGIN:VCALENDAR
VERSION:2.0
PRODID:-//Cap Magellan - ECPv6.15.20//NONSGML v1.0//EN
CALSCALE:GREGORIAN
METHOD:PUBLISH
X-ORIGINAL-URL:https://capmagellan.com
X-WR-CALDESC:Évènements pour Cap Magellan
REFRESH-INTERVAL;VALUE=DURATION:PT1H
X-Robots-Tag:noindex
X-PUBLISHED-TTL:PT1H
BEGIN:VTIMEZONE
TZID:Europe/Paris
BEGIN:DAYLIGHT
TZOFFSETFROM:+0100
TZOFFSETTO:+0200
TZNAME:CEST
DTSTART:20220327T010000
END:DAYLIGHT
BEGIN:STANDARD
TZOFFSETFROM:+0200
TZOFFSETTO:+0100
TZNAME:CET
DTSTART:20221030T010000
END:STANDARD
BEGIN:DAYLIGHT
TZOFFSETFROM:+0100
TZOFFSETTO:+0200
TZNAME:CEST
DTSTART:20230326T010000
END:DAYLIGHT
BEGIN:STANDARD
TZOFFSETFROM:+0200
TZOFFSETTO:+0100
TZNAME:CET
DTSTART:20231029T010000
END:STANDARD
BEGIN:DAYLIGHT
TZOFFSETFROM:+0100
TZOFFSETTO:+0200
TZNAME:CEST
DTSTART:20240331T010000
END:DAYLIGHT
BEGIN:STANDARD
TZOFFSETFROM:+0200
TZOFFSETTO:+0100
TZNAME:CET
DTSTART:20241027T010000
END:STANDARD
END:VTIMEZONE
BEGIN:VEVENT
DTSTART;TZID=Europe/Paris:20230924T120000
DTEND;TZID=Europe/Paris:20230924T180000
DTSTAMP:20260421T164805
CREATED:20230904T095109Z
LAST-MODIFIED:20230904T095109Z
UID:37360-1695556800-1695578400@capmagellan.com
SUMMARY:Journée du Portugal : Le Portugal est de retour le 24 septembre à Paris-Vincennes
DESCRIPTION:Dimanche 24 septembre de 12h à 18h\nHippodrome Paris-Vincennes\n2 Rte de la Ferme\, 75012 Paris\nhttps://www.vincennes-hippodrome.com/fr/evenement/la-journee-du-portugal-24sept23/\n \n \nDimanche 24 septembre\, la Journée du Portugal fait son retour sur l’hippodrome Paris-Vincennes pour une 11e édition haute en couleurs et en gastronomie ! Faisons le point sur ce qui vous attendra du côté de l’hippodrome phare du trot français.\nCette grande journée de trot ne comptera pas moins de 9 courses\, dont 2 courses de Groupe\, le haut niveau des courses au Trot. Le Prix Georges Dreux\, course de Groupe III\, sera un moment phare de la journée\, réunissant les meilleurs trotteurs âgés de 6 à 10 ans au sulky. On retrouvera à Vincennes quelques stars du dernier Championnat du Monde\, le légendaire Prix d’Amérique. Mais c’est surtout du côté de l’Étrier que les regards se tourneront avec le Prix des Élites\, une course estampillée Groupe I\, la catégorie reine du trot. Ce Prix dédié aux chevaux de 4 ans sera l’occasion pour les meilleurs « J » (chaque année\, une lettre est attribuée aux poulains. En 2019\, c’était le « J ») de se retrouver\, 3 mois après le Prix du Président de la République.  \nLe Portugal investit l’Hippodrome\nComme à l’accoutumé\, le Grand Hall affichera complet tout au long de l’événement et les spectateurs pourront\, guidés par les alléchantes odeurs de spécialités régionales\, sillonner l’espace en salivant ! Une quinzaine de stands seront présents et permettront aux habitués comme aux curieux de (re)découvrir les plats lusitaniens. Pastel de bacalhau\, de nata ou Bacalhau a brás régaleront petits et grands. En bord de piste\, plusieurs food trucks permettront de combler tous les palais. Et pour ceux qui préfèrent ne rien manquer des courses\, le Restaurant Panoramique vous accueillera (sur réservation uniquement\, 01 49 77 16 23). \nD’autre part\, l’événement offrira au public présent une ambiance musicale festive empreinte de culture portugaise. Cette année\, c’est la Philharmonie Portugaise de Paris qui sera présente. La trentaine de musiciens entraînera les spectateurs dans un voyage musical unique au cœur de Lisbonne\, de Porto ou de l’Algarve. \nCe voyage en terre portugaise ne sera pas seulement auditif ou gustatif\, mais également visuel ! Plusieurs groupes folkloriques animeront l’hippodrome entre les courses avec danses traditionnelles.  \nDes animations pour petits et grands\nLes travées de l’hippodrome ne seront pas en reste. Et il y en aura pour tous les âges ! Les plus petits pourront se prendre pour des jockeys grâce aux baptêmes à poneys. Caramel\, Caline et Flicka les accompagneront sur un parcours de l’espace famille. Pour les autres\, le Carrousel de chevaux de bois sera dans les anciennes écuries. De plus\, vous pourrez découvrir les coulisses de Paris-Vincennes à travers des visites guidées tout au long de la journée. Un bon moyen de mieux comprendre l’univers du trot d’entrer au cœur des écuries\, pour voir les champions se préparer avant d’entrer en piste. \nNe manquez pas non plus l’occasion de vivre la course au plus près du peloton à bord du bus suiveur. Il offre une vision unique des chevaux\, de la manière dont les drivers les guident et des tactiques qu’ils emploient. Un conseil cependant\, inscrivez-vous dès votre arrivée\, il n’y aura pas de place pour tout le monde ! \nVous l’aurez compris\, la 11e édition de la Journée du Portugal est l’événement incontournable de cette fin septembre. Nous vous donnons rendez-vous à l’Hippodrome Paris-Vincennes pour vivre un grand moment de courses\, de gastronomie et de culture portugaise. Découvrez la programmation complète sur\nvincennes-hippodrome.com ! \nPierre-Emmanuel Kuster\nLeTrot.com \n  \n \nCrédit Photo : LeTROT / Hippodrome Paris-Vincennes \n 
URL:https://capmagellan.com/event/journee-du-portugal-le-portugal-est-de-retour-le-24-septembre-a-paris-vincennes/
CATEGORIES:Famille,Festival,Forum
ATTACH;FMTTYPE=image/jpeg:https://capmagellan.com/wp-content/uploads/2023/09/Header-Twitter-1500x500-1.jpg
END:VEVENT
END:VCALENDAR