BEGIN:VCALENDAR
VERSION:2.0
PRODID:-//Cap Magellan - ECPv6.15.20//NONSGML v1.0//EN
CALSCALE:GREGORIAN
METHOD:PUBLISH
X-ORIGINAL-URL:https://capmagellan.com
X-WR-CALDESC:Évènements pour Cap Magellan
REFRESH-INTERVAL;VALUE=DURATION:PT1H
X-Robots-Tag:noindex
X-PUBLISHED-TTL:PT1H
BEGIN:VTIMEZONE
TZID:Europe/Paris
BEGIN:DAYLIGHT
TZOFFSETFROM:+0100
TZOFFSETTO:+0200
TZNAME:CEST
DTSTART:20220327T010000
END:DAYLIGHT
BEGIN:STANDARD
TZOFFSETFROM:+0200
TZOFFSETTO:+0100
TZNAME:CET
DTSTART:20221030T010000
END:STANDARD
BEGIN:DAYLIGHT
TZOFFSETFROM:+0100
TZOFFSETTO:+0200
TZNAME:CEST
DTSTART:20230326T010000
END:DAYLIGHT
BEGIN:STANDARD
TZOFFSETFROM:+0200
TZOFFSETTO:+0100
TZNAME:CET
DTSTART:20231029T010000
END:STANDARD
BEGIN:DAYLIGHT
TZOFFSETFROM:+0100
TZOFFSETTO:+0200
TZNAME:CEST
DTSTART:20240331T010000
END:DAYLIGHT
BEGIN:STANDARD
TZOFFSETFROM:+0200
TZOFFSETTO:+0100
TZNAME:CET
DTSTART:20241027T010000
END:STANDARD
END:VTIMEZONE
BEGIN:VEVENT
DTSTART;VALUE=DATE:20230928
DTEND;VALUE=DATE:20231002
DTSTAMP:20260422T152915
CREATED:20230622T152404Z
LAST-MODIFIED:20230622T152404Z
UID:36469-1695859200-1696204799@capmagellan.com
SUMMARY:LUSO'FESTIVAL: Brésil en Mouvements 2023 à Paris !
DESCRIPTION:Du 28 septembre au 1er octobre 2023\nAu cinéma Les 7 Parnassiens\n98 Bd du Montparnasse\, 75014 Paris \n  \nLa 19ème édition du Brésil En Mouvements – BEM – aura lieu du 28 septembre au 1er octobre 2023\, au cinéma Les 7 Parnassiens. Porté par l’association Autres Brésils\, le BEM – le plus grand festival de films documentaires brésiliens d’Europe depuis 2005 – a comme objectif la diffusion de films documentaires autour du Brésil\, la création de ponts sociaux et culturels entre les sociétés française et brésilienne et la meilleure compréhension des grands enjeux brésiliens contemporains.\nEn 2023 (du 28/09 au 13/10)\, pour la première fois\, le BEM aura aussi une programmation spéciale pour les 13-20 ans : Jeunesse en Mouvements propose aux élèves des collèges et lycées des projections/débats pour découvrir le cinéma documentaire brésilien afin de créer des ponts entre nos sociétés et de nouveaux regards\, parfois éloignés des clichés partagés des deux côtés de l’Atlantique. \nNous avons le plaisir de vous annoncer le lancement de la campagne de financement participatif annuelle pour la 19ème édition du festival Brésil en Mouvements. \nNous comptons sur votre soutien pour consolider la base financière de cette campagne et pour inciter le public à s’engager. \nVous pouvez faire un don sur notre helloasso \nPour défendre la liberté d’association\, d’expression\, les droits humains et le cinéma brésilien\, pour participer de notre action de solidarité internationale\, nous avons besoin de vous ! \nMerci de faire circuler ce message dans vos cercles familiaux et amicaux pour que chacun.e puisse soutenir le festival et que nous soyons en mesure de vous proposer un évènement de qualité. \nL’équipe d’Autres Brésils et ses bénévoles seront ravi.e.s de vous retrouver pour cette 19ème édition. \nPour plus d’informations\, n’hésitez pas à consulter notre site et nos réseaux sociaux :\nInstagram : @autres_bresils\nfacebook : Autres Brésils\ntwitter : @Autres_Bresils \nVamos juntos!\nUm grande abraço da equipe Autres Brésils
URL:https://capmagellan.com/event/lusofestival-bresil-en-mouvements-2023-a-paris/
LOCATION:Cinéma les 7 Parnassiens – 98 Boulevard du Montparnasse\, 75014 Paris
CATEGORIES:Brésil,Cinéma,Festival
ATTACH;FMTTYPE=image/jpeg:https://capmagellan.com/wp-content/uploads/2023/06/Bresil-en-mouvements.jpg
END:VEVENT
BEGIN:VEVENT
DTSTART;VALUE=DATE:20231002
DTEND;VALUE=DATE:20231003
DTSTAMP:20260422T152915
CREATED:20230901T134810Z
LAST-MODIFIED:20230901T135724Z
UID:37319-1696204800-1696204800@capmagellan.com
SUMMARY:CONCERT : Lura au café de la danse !
DESCRIPTION:Le 2 octobre à 20h\nAu Café de la Danse\n5 Pass. Louis-Philippe\, 75011 Paris \nLura\, l’une des voix les plus reconnues internationalement de la musique lusophone\, est de retour avec un nouvel album et un concert renouvelé. \nAprès plus de 25 années de carrière\, Lura entame une révolution\, à l’occasion d’un album accueillant de nouveaux sons\, tout en restant fidèle à ses racines du Portugal et du Cap Vert. \nLa voix de Lura est sans artifices\, elle contamine les publics du monde entier grâce à son incroyable performance scénique qui dépasse toutes les frontières de styles\, de lieux et de temps. \nRetrouvez-la le 2 octobre 2023 au Café de la Danse pour un concert exceptionnel ! \nPour plus d’information\, rendez-vous sur : \n\nInstagram : @lura_criola\nFacebook : Lura Oficial\nla billetterie officielle : tal’ticket\n\nCrédit image : LICENCE PLATESV-R-2019-000653
URL:https://capmagellan.com/event/concert-lura-au-cafe-de-la-danse/
LOCATION:Café de la Danse\,  5\, passage Louis Philippe \, 75011 Paris\, France
CATEGORIES:Cap-Vert,concert,Musique
ATTACH;FMTTYPE=image/jpeg:https://capmagellan.com/wp-content/uploads/2023/09/Lura_2023_affiche_40x60_paris_HD_page-0001-2.jpg
END:VEVENT
BEGIN:VEVENT
DTSTART;VALUE=DATE:20231007
DTEND;VALUE=DATE:20231008
DTSTAMP:20260422T152915
CREATED:20230901T141417Z
LAST-MODIFIED:20230901T145842Z
UID:37328-1696636800-1696636800@capmagellan.com
SUMMARY:CONCERT : Caetano Veloso est de retour à Paris !
DESCRIPTION:Le 7 Octobre à 20h\,\nAu Grand Rex\,\n1 Bd Poissonnière\, 75002 Paris \nCaetano Veloso est l’artiste brésilien qui a remporté le plus de prix aux Latin Grammys – un total de treize trophées – en plus d’avoir été honoré par l’académie en tant que « Personne de l’année » en 2012. Avec plus d’une cinquantaine d’albums disponibles et des collaborations dans des bandes originales de films tels que « Hable con Ella » de Pedro Almodovar et « Frida » de Julie Taymor. Caetano Veloso est maintenant de retour avec un nouvel album « Meu Coco »\, qui se veut un voyage dans la tête de l’artiste\, montrant comment son cerveau fonctionne tout en créant ses chansons. \nAutres dates : \n\n21 Septembre à 20h30 à l’Opéra Garnier Monte-Carlo (Monaco)\n23 Septembre à 20h à la Philharmonie de Paris (Sold-out)\n\nPour plus d’information\, rendez-vous sur : \n\nInstagram : @caetanoveloso\nFacebook : Caetano Veloso\nL’agenda officiel de Caetano Veloso\n\nCrédit Photo : Fernando Young / Décibels Prod.
URL:https://capmagellan.com/event/concert-caetano-veloso-est-de-retour-a-paris/
LOCATION:Grand Rex\, 1 Boulevard Poissonnière\, Paris\, 75002\, France
CATEGORIES:Brésil,concert,Musique
ATTACH;FMTTYPE=image/jpeg:https://capmagellan.com/wp-content/uploads/2023/09/Por-Fernando-Young-1-@_fernandoyoung_.jpg
END:VEVENT
BEGIN:VEVENT
DTSTART;TZID=Europe/Paris:20231026T193000
DTEND;TZID=Europe/Paris:20231026T230000
DTSTAMP:20260422T152915
CREATED:20231024T081158Z
LAST-MODIFIED:20240308T111101Z
UID:37916-1698348600-1698361200@capmagellan.com
SUMMARY:MUSIQUE Groupe capverdien Scuru Fitchadu au Festival Villes des Musiques du Monde
DESCRIPTION:Groupe capverdien Scuru Fitchadu à la 27ème édition de notre festival Villes des Musiques du Monde.\nLe 6 octobre 2023 à 19h30 à FGO Barbara. \nFGO-BARBAR \n1 rue FLEURY\,75018\, PARIS France \nMélangeant funana et musiques actuelles\, Marcus Veiga alias Scúru Fitchádu représente une référence directe à la musique capverdienne et à l’african matrix\, au sein d’une esthétique punk\, électronique et disruptive où s’alignent des influences et croisements de différents univers musicaux. \n\n\n\nSon tout nouvel album\, sorti en janvier 2023\, Nez Txada skúru dentu skina na braku fundu est un album conceptuel qui s’inspire des mouvements révolutionnaires d’indépendance pro-africains\, établissant une ligne conductrice vers une interprétation poétique du spectre urbain actuel. Ce projet\, dont le son aspire à un niveau plus expérimental\, est fortement axé sur l’oralité\, avec une rhétorique subversive et contestataire. \nTarif : 13 € à 15 € \nLien billetterie : https://my.weezevent.com/antti-paalanen-grayssoker \nAffiche : Villes des Musiques du Monde
URL:https://capmagellan.com/event/groupe-capverdien-scuru-fitchadu-au-festival-villes-des-musiques-du-monde/
CATEGORIES:Cap-Vert,concert,Convivialité,Festival,Musique
ATTACH;FMTTYPE=image/png:https://capmagellan.com/wp-content/uploads/2023/10/Capture-decran-2023-10-24-a-10.09.03-e1698135077907.png
ORGANIZER;CN="VILLES DES MUSIQUES DU MONDE":MAILTO:reservation@villesdesmusiquesdumonde.com
END:VEVENT
BEGIN:VEVENT
DTSTART;TZID=Europe/Paris:20231028T140000
DTEND;TZID=Europe/Paris:20231028T170000
DTSTAMP:20260422T152915
CREATED:20231023T140707Z
LAST-MODIFIED:20231023T140740Z
UID:37908-1698501600-1698512400@capmagellan.com
SUMMARY:35 ans de l'association Crianças de Hoje e de Amanha !
DESCRIPTION:35e anniversaire de l’association Crianças de Hoje e de Amanha !\nRendez-vous dès 14h\, le samedi 28 octobre 2023 à la Salle Olympe de Gouges\, Paris 11e (Métro Voltaire L9\, et/ou Père Lachaise L2).  \nLe 8 novembre 1988\, marque la création d’une toute nouvelle association fondée par un groupe d’amis qui avaient pour principal objectif\, au-delà de contribuer à aider le Cap-Vert et ses habitants en menant des actions et de projets dans le secteur de la petite enfance et à agir modestement pour les familles\, de maintenir un lien d’amitié entre la France et le Cap-Vert. \nLien de l’événement : https://cheda.org/2023/10/35-anniversaire-de-cheda-%f0%9f%8e%89%f0%9f%8e%89%f0%9f%8e%89/ \n 
URL:https://capmagellan.com/event/35-ans-de-lassociation-criancas-de-hoje-e-de-amanha/
LOCATION:Salle Olympe de Gouges\, 15 rue Merlin\, Paris\, 75011\, France
CATEGORIES:Cap-Vert,Convivialité,Famille,Musique
ATTACH;FMTTYPE=image/jpeg:https://capmagellan.com/wp-content/uploads/2023/10/WhatsApp-Image-2023-10-21-at-12.02.47.jpeg
ORGANIZER;CN="Association Crian%C3%A7as de Hoje e de Amanha":MAILTO:contact@cheda.org
END:VEVENT
END:VCALENDAR