BEGIN:VCALENDAR
VERSION:2.0
PRODID:-//Cap Magellan - ECPv6.15.20//NONSGML v1.0//EN
CALSCALE:GREGORIAN
METHOD:PUBLISH
X-ORIGINAL-URL:https://capmagellan.com
X-WR-CALDESC:Évènements pour Cap Magellan
REFRESH-INTERVAL;VALUE=DURATION:PT1H
X-Robots-Tag:noindex
X-PUBLISHED-TTL:PT1H
BEGIN:VTIMEZONE
TZID:Europe/Paris
BEGIN:DAYLIGHT
TZOFFSETFROM:+0100
TZOFFSETTO:+0200
TZNAME:CEST
DTSTART:20220327T010000
END:DAYLIGHT
BEGIN:STANDARD
TZOFFSETFROM:+0200
TZOFFSETTO:+0100
TZNAME:CET
DTSTART:20221030T010000
END:STANDARD
BEGIN:DAYLIGHT
TZOFFSETFROM:+0100
TZOFFSETTO:+0200
TZNAME:CEST
DTSTART:20230326T010000
END:DAYLIGHT
BEGIN:STANDARD
TZOFFSETFROM:+0200
TZOFFSETTO:+0100
TZNAME:CET
DTSTART:20231029T010000
END:STANDARD
BEGIN:DAYLIGHT
TZOFFSETFROM:+0100
TZOFFSETTO:+0200
TZNAME:CEST
DTSTART:20240331T010000
END:DAYLIGHT
BEGIN:STANDARD
TZOFFSETFROM:+0200
TZOFFSETTO:+0100
TZNAME:CET
DTSTART:20241027T010000
END:STANDARD
BEGIN:DAYLIGHT
TZOFFSETFROM:+0100
TZOFFSETTO:+0200
TZNAME:CEST
DTSTART:20250330T010000
END:DAYLIGHT
BEGIN:STANDARD
TZOFFSETFROM:+0200
TZOFFSETTO:+0100
TZNAME:CET
DTSTART:20251026T010000
END:STANDARD
END:VTIMEZONE
BEGIN:VEVENT
DTSTART;VALUE=DATE:20231129
DTEND;VALUE=DATE:20240104
DTSTAMP:20260422T124754
CREATED:20231130T161315Z
LAST-MODIFIED:20231130T161315Z
UID:38169-1701216000-1704326399@capmagellan.com
SUMMARY:CINÉMA : Sortie du documentaire Césaria Evora\, la Diva aux Pieds Nus
DESCRIPTION:Commençons avec Césaria Evora\, la Diva aux Pieds Nus\, sorti en salle le 29 novembre dernier. Cesária Évora chante son titre Sodade en 1992\, la faisant reconnaître internationalement à 51 ans. Longtemps simple chanteuse de bar au Cap-Vert\, la légende que l’on connaît n’a pas toujours connu la gloire sinon la pauvreté. Femme profondément libre\, généreuse et bien entourée\, la “Diva aux pieds nus” a su finalement faire briller sa musique à travers le monde tout en restant fidèle à son Cap-Vert\, la consacrant reine de la Morna et reine des cœurs. La réalisatrice du film\, Ana Sofia Fonseca\, a de multiples facettes : réalisatrice\, journaliste\, productrice et écrivain. Elle a plus de 20 ans d’expérience dans le domaine de la narration. Son travail a été récompensé par des dizaines de prix au Portugal\, tels que le prix Gazeta\, le prix AMI Journalism Against Indifference\, le prix UNESCO Journalism Human Rights & Integration\, le prix Corações com Coroa et le prix Hamilton Ribeiro au Brésil. \n  \n \nFlore Couto\nDécouvre plus de sorties luso cinéma de décembre ici !
URL:https://capmagellan.com/event/cinema-sortie-du-documentaire-cesaria-evora-la-diva-aux-pieds-nus/
CATEGORIES:Cap-Vert,Cinéma
ATTACH;FMTTYPE=image/jpeg:https://capmagellan.com/wp-content/uploads/2023/11/Cesaria-Evora-la-Diva-aux-Pieds-Nus-2023-11-29-16-05-56-window-656753c322257386911261.jpeg
END:VEVENT
BEGIN:VEVENT
DTSTART;TZID=Europe/Paris:20231201T203000
DTEND;TZID=Europe/Paris:20231201T203000
DTSTAMP:20260422T124754
CREATED:20231114T140915Z
LAST-MODIFIED:20231114T140915Z
UID:38037-1701462600-1701462600@capmagellan.com
SUMMARY:Évènement de sortie de l'album "Azul" Carlos G. Lopes à Paris
DESCRIPTION:Concert Carlos G. Lopes\nStudio de l’Ermitage – 8 rue de l’Ermitage 75020 Paris\n Vendredi 1er décembre – ouverture des portes à 20h30\, concert à 21h\n\n\nPour célébrer la sortie de « Azul »\, le nouveau album de Carlos G. Lopes (Sortie digitale le 10 novembre 2023 chez Pilar Records)\, rendez-vous le vendredi 1er décembre à 21h !\n\nDepuis son dernier album « Kanta Pa Skece »\, l’artiste franco-capverdien Carlos G. Lopes a confectionné\, pour son retour\, une série de nouveaux titres dans un bel album empli de poésie aux sonorités afro pop.\nL’auteur-compositeur-interprète creuse un sillon qui lui ressemble dans un lien puissant entre le Cap-Vert\, sa terre natale\, et la France\, sa terre d’accueil depuis l’âge de 10 ans. Carlos G. Lopes fait honneur à sa « créolité »\, dans une modernité assumée\, de fleurer et vivre ses racines\, « ici et maintenant »\, fort de son parcours et sa double-culture.\nEn constante évolution artistique\, se reflète dans sa musique la magie du voyage. Les images de l’archipel de Cabo Verde poussent les inspirations du musicien\, au carrefour entre la musique traditionnelle du pays (funana\, morna…)\, et un style plus contemporain qui flirte avec la soul\, le jazz\, voire le RnB.\n\nReste le signe distinctif du lien indéfectible avec sa terre natale\, il arbore volontiers le bord d’une oreille peinte en bleu\, signal fort indiquant que sa musique est pleine de couleurs\, celles du ciel\, de la mer\, des lieux et des rêves de son enfance…\n\nPlein tarif : 18 I Prévente : 15 € I https://www.studio-ermitage.com/index.php/agenda/date/carlos-g-lopes\n\nClip Sodadi :\nhttps://youtu.be/-WoLhfP2wKo?si=EPH1cfWWQhqebVFj\n\nCarlos G Lopes : Chant / Composition\nBenoît Medrykowski : Guitare\nJerry Léonide : Piano\nDarcy Gomes : Basse\nCédric Le Donne : Batterie\nAdriano DD (TBC) : Percussions
URL:https://capmagellan.com/event/evenement-de-sortie-de-lalbum-azul-carlos-g-lopes-a-paris/
LOCATION:Studio de l’Ermitage\, 8 Rue de l'Ermitage\, Paris\, 75020\, France
CATEGORIES:Cap-Vert,concert,Musique
ATTACH;FMTTYPE=image/jpeg:https://capmagellan.com/wp-content/uploads/2023/11/image0.jpeg
END:VEVENT
BEGIN:VEVENT
DTSTART;VALUE=DATE:20231204
DTEND;VALUE=DATE:20231205
DTSTAMP:20260422T124754
CREATED:20230901T145557Z
LAST-MODIFIED:20230901T145557Z
UID:37333-1701648000-1701648000@capmagellan.com
SUMMARY:CONCERT : Mayra Andrade au Trianon !
DESCRIPTION:Le 4 décembre à 19h\nAu Trianon\n80 Boulevard de Rochechouart\, 75018 Paris\n\n\nLe concert de Mayra Andrade en novembre est déjà sold-out !\nUne nouvelle date a été annoncée : rendez-vous au Trianon le 4 décembre\n\n\nLa chanteuse Cap-Verdienne\, accompagnée de son compatriote Djodje Almeida à la guitare\, nous invite à redécouvrir son univers dans une ambiance intimiste !\nPiochant dans l’ensemble de sa discographie\, de Navega (2006) à Manga (2019)\, voilà l’occasion pour nous de ré-entendre certaines de ses plus belles chansons.\n\nPour plus d’information\, rendez-vous sur :\nInstagram : @mayraandradeofficial\nFacebook : Mayra Andrade\nla billetterie officielle : Le Trianon\n\n\nCrédit photo : reEncanto
URL:https://capmagellan.com/event/concert-mayra-andrade-au-trianon/
LOCATION:Le trianon\, 80\, boulevard de Rochechouart\, Paris\, 75008\, France
CATEGORIES:Cap-Vert,concert,Musique
ATTACH;FMTTYPE=image/jpeg:https://capmagellan.com/wp-content/uploads/2023/09/M.A_POST_TRIANON.jpg
END:VEVENT
BEGIN:VEVENT
DTSTART;VALUE=DATE:20231206
DTEND;VALUE=DATE:20240201
DTSTAMP:20260422T124754
CREATED:20231130T160237Z
LAST-MODIFIED:20231130T161321Z
UID:38163-1701820800-1706745599@capmagellan.com
SUMMARY:CINÉMA : Sortie du film Levante\, de la réalisatrice brésilienne Lillah Halla
DESCRIPTION:Le 6 décembre sortira le film Levante\, de la réalisatrice brésilienne Lillah Halla. Sofia\, une joueuse de volleyball prometteuse de 17 ans\, apprend qu’elle est enceinte la veille d’un championnat qui peut sceller son destin. Ne voulant pas de cette grossesse\, elle cherche à se faire avorter illégalement et se retrouve la cible d’un groupe fondamentaliste bien décidé à l’en empêcher à tout prix. Mais ni Sofia ni ses proches n’ont l’intention de se soumettre à l’aveugle ferveur de la masse. Le film a été présenté à la Semaine de la Critique au Festival de Cannes 2023. \n \nFlore Couto\nDécouvre plus de sorties luso cinéma de décembre ici !
URL:https://capmagellan.com/event/cinema-sortie-du-film-levante-de-la-realisatrice-bresilienne-lillah-halla/
CATEGORIES:Brésil,Cinéma
ATTACH;FMTTYPE=image/webp:https://capmagellan.com/wp-content/uploads/2023/11/Levante-Film-2023-5026353.webp
END:VEVENT
BEGIN:VEVENT
DTSTART;TZID=Europe/Paris:20231211T190000
DTEND;TZID=Europe/Paris:20231211T220000
DTSTAMP:20260422T124754
CREATED:20231206T134724Z
LAST-MODIFIED:20231206T135151Z
UID:38196-1702321200-1702332000@capmagellan.com
SUMMARY:Soundscape : Découvrez les nouveaux talents de la musique portugaise le 11 décembre à la Maison du Portugal\, à Paris ! En présence de la luso-brésilienne King Kami !
DESCRIPTION:Soundscape Portugal: Découvrez les nouveaux talents de la musique portugaise ! \nMaison du Portugal – André de GOUVEIA\, Boulevard Jourdan\, Paris\, France \n7 P Boulevard Jourdan 75014 Paris \nRejoignez l’équipe Soundscape Portugal à la Maison du Portugal pour une soirée musicale inoubliable ! En présence de King Kami\, DJ brésilienne basée à Lisbonne et invitée aux Transmusicales 2023 ! \nUne discussion autour de la chaîne Youtube Soundscape et la scène lusophone avec la DJ brésilienne King Kami\, le journaliste Simon Da Silva des Inrocks\, ex-Pan African Music\,et l’équipe de Soundscape : Yoann Le Gruiec et Mickaël Cordeiro.
URL:https://capmagellan.com/event/soundscape-decouvrez-les-nouveaux-talents-de-la-musique-portugaise-le-11-decembre-a-la-maison-du-portugal-a-paris-en-presence-de-la-luso-bresilienne-king-kami/
LOCATION:Maison du Portugal – André de Gouveia\, 7 P Boulevard Jourdan\, Paris\, 75014\, France
CATEGORIES:Brésil,Cinéma,Convivialité,Musique
ATTACH;FMTTYPE=image/jpeg:https://capmagellan.com/wp-content/uploads/2023/12/Capture-decran-2023-12-06-a-14-50-44.jpg
END:VEVENT
END:VCALENDAR