BEGIN:VCALENDAR
VERSION:2.0
PRODID:-//Cap Magellan - ECPv6.15.20//NONSGML v1.0//EN
CALSCALE:GREGORIAN
METHOD:PUBLISH
X-WR-CALNAME:Cap Magellan
X-ORIGINAL-URL:https://capmagellan.com
X-WR-CALDESC:Évènements pour Cap Magellan
REFRESH-INTERVAL;VALUE=DURATION:PT1H
X-Robots-Tag:noindex
X-PUBLISHED-TTL:PT1H
BEGIN:VTIMEZONE
TZID:Europe/Paris
BEGIN:DAYLIGHT
TZOFFSETFROM:+0100
TZOFFSETTO:+0200
TZNAME:CEST
DTSTART:20230326T010000
END:DAYLIGHT
BEGIN:STANDARD
TZOFFSETFROM:+0200
TZOFFSETTO:+0100
TZNAME:CET
DTSTART:20231029T010000
END:STANDARD
BEGIN:DAYLIGHT
TZOFFSETFROM:+0100
TZOFFSETTO:+0200
TZNAME:CEST
DTSTART:20240331T010000
END:DAYLIGHT
BEGIN:STANDARD
TZOFFSETFROM:+0200
TZOFFSETTO:+0100
TZNAME:CET
DTSTART:20241027T010000
END:STANDARD
BEGIN:DAYLIGHT
TZOFFSETFROM:+0100
TZOFFSETTO:+0200
TZNAME:CEST
DTSTART:20250330T010000
END:DAYLIGHT
BEGIN:STANDARD
TZOFFSETFROM:+0200
TZOFFSETTO:+0100
TZNAME:CET
DTSTART:20251026T010000
END:STANDARD
END:VTIMEZONE
BEGIN:VEVENT
DTSTART;VALUE=DATE:20240913
DTEND;VALUE=DATE:20240916
DTSTAMP:20260421T232725
CREATED:20240903T103828Z
LAST-MODIFIED:20240903T104644Z
UID:42411-1726185600-1726444799@capmagellan.com
SUMMARY:FÊTE de l'humanité
DESCRIPTION:Du 13 au 15 septembre\nSur l’ancienne Base Aérienne 217 – 91220 Brétigny-sur-Orge \nLa Fête de l’Humanité est un événement organisé tous les ans par le journal L’Humanité au cours du second week-end de septembre. Créée en 1930 par Marcel Cachin\, directeur de L’Humanité\, sa première édition eut lieu en 1930. Évènement politique et multiculturel\, la Fête de l’Humanité est un lieu de rassemblement\, de discussions et d’échanges autour des valeurs de solidarité\, d’ouverture d’esprit\, de partage et de paix. \nPrésence de João Selva le 14 septembre\nL’artiste carioca João Selva se produira à la Fête de l’Humanité pour un concert vibrant et exotique. Ayant grandi à Ipanema\, il puise son inspiration dans la bossa nova et fusionne samba\, soul\, jazz et funk pour créer une musique à la fois dansante et onirique\, ravivant l’esprit de la révolution tropicaliste des années 1970. Installé en France depuis 2010\, João Selva est considéré comme l’un des meilleurs ambassadeurs de la musique brésilienne. Ne manquez pas ce concert ! \nPlus d’infos ici.
URL:https://capmagellan.com/event/fete-de-lhumanite/
CATEGORIES:Brésil,concert,Festival,Musique
ATTACH;FMTTYPE=image/jpeg:https://capmagellan.com/wp-content/uploads/2023/07/Visuel-Festival.jpg
END:VEVENT
BEGIN:VEVENT
DTSTART;TZID=Europe/Paris:20240915T210000
DTEND;TZID=Europe/Paris:20240915T230000
DTSTAMP:20260421T232725
CREATED:20240903T104523Z
LAST-MODIFIED:20240903T104726Z
UID:42414-1726434000-1726441200@capmagellan.com
SUMMARY:SOIRÉE Roda de Samba
DESCRIPTION:Le 15 septembre à 21h\nAu Studio de l’Ermitage – 8 rue de l’Ermitage\, Paris 20 Ménilmontant \nLa roda de samba da Pedra do Sal\, animée par Fernando Del Papa\, invite Fabiana Cozza pour une soirée qui promet une ambiance chaleureuse\, rappelant les soirées brésiliennes. Six musiciens se réuniront autour d’une table pour interpréter les grands classiques de la samba ainsi que quelques compositions personnelles\, dans un style qui évoque l’atmosphère de Rio. Avec un cavaquinho\, des percussions de toutes sortes\, du tambourin aux tambours\, ils feront vibrer le public\, qui ne pourra s’empêcher de danser et de frapper des mains. \nPlus d’informations et réservation ici.
URL:https://capmagellan.com/event/soiree-roda-de-samba/
CATEGORIES:Brésil,Musique
ATTACH;FMTTYPE=image/jpeg:https://capmagellan.com/wp-content/uploads/2023/07/Visuel-Concert-1.jpg
END:VEVENT
BEGIN:VEVENT
DTSTART;VALUE=DATE:20240919
DTEND;VALUE=DATE:20241014
DTSTAMP:20260421T232725
CREATED:20240909T095035Z
LAST-MODIFIED:20240909T095035Z
UID:42468-1726704000-1728863999@capmagellan.com
SUMMARY:Exposition solo de Sónia Aniceto\, plasticienne portugaise à Paris
DESCRIPTION:Exposition solo de Sónia Aniceto à Paris \nDécouvrez le travail de la jeune plasticienne portugaise Sónia Aniceto lors de son exposition solo à la LooLooLook Gallery\, du 19 septembre au 13 octobre 2024. Formée au Portugal et installée à Bruxelles\, Sónia est reconnue pour la qualité exceptionnelle de ses œuvres\, appréciées aussi bien au Portugal qu’en Belgique. Ne manquez pas cette occasion de découvrir son univers artistique unique. \nPlus d’informations sur son site : www.sonia-aniceto.net.
URL:https://capmagellan.com/event/exposition-solo-de-sonia-aniceto-plasticienne-portugaise-a-paris/
CATEGORIES:Art,Exposition,Portugal
ATTACH;FMTTYPE=image/jpeg:https://capmagellan.com/wp-content/uploads/2024/09/visuel-exposition-pour-le-site-web-1-2048x1448.jpg
END:VEVENT
BEGIN:VEVENT
DTSTART;TZID=Europe/Paris:20240921T173000
DTEND;TZID=Europe/Paris:20240921T200000
DTSTAMP:20260421T232725
CREATED:20240909T081020Z
LAST-MODIFIED:20240909T081020Z
UID:42465-1726939800-1726948800@capmagellan.com
SUMMARY:LITTÉRATURE : Mémoires de la dictature - Société\, émigration et résistance
DESCRIPTION:Le livre Mémoires de la dictature : société\, émigration et résistance conçu par l’historien Daniel Bastos à partir du fonds photographique inédit de Fernando Mariano Cardeira – ancien opposant\, déserteur militaire\, émigré et exilé politique – sera présenté à la Maison du Portugal par Paulo Pisco\, membre élu du Parlement portugais pour la circonscription de l’Europe. \nLa séance sera suivie d’une dégustation de vinho verde\, promue par Vinhos Norte\, un producteur qui cherche à combiner tradition et innovation. \nDans ce nouvel ouvrage\, réalisé avec le soutien institutionnel de la Commission pour la commémoration du 50e anniversaire de la révolution du 25 avril\, Daniel Bastos dévoile la collection unique de Fernando Mariano Cardeira\, dont l’objectif humaniste et militant a permis de capturer des photographies importantes pour la compréhension de la société\, de l’émigration et de la résistance à la dictature dans les années 1960 et 1970. \nÀ travers les souvenirs visuels de l’ancien militant de l’opposition\, basés sur une collection de cent cinquante images\, les premières manifestations de mai 1968 à Paris sont abordées\, un événement emblématique où le photographe engagé a consolidé sa conscience civique et politique. Et\, avec un accent particulier\, la vie quotidienne de pauvreté et de misère à Lisbonne\, l’effervescence du mouvement étudiant portugais\, l’envoi de troupes dans les territoires d’outre-mer\, les chemins de la désertion\, de l’émigration et de l’exil\, une stratégie suivie par des milliers de Portugais à la recherche de meilleures conditions de vie et pour échapper à la guerre coloniale dans les années 60 et 70. \nEn cette année qui célèbre un demi-siècle de liberté au Portugal\, la présentation de ce livre à Paris est une reconnaissance des liens qui unissent le Portugal et la France\, et de la contribution de la communauté portugaise de France\, la plus importante des communautés portugaises d’Europe et l’une des principales communautés étrangères établies en territoire gaulois\, avec environ un million de personnes\, au fil des ans\, à la valorisation des valeurs de liberté et de « portugalidade ». \nNé après la révolution d’avril\, auteur de plusieurs ouvrages publiés dans le domaine de l’histoire et de l’émigration\, dont les séances de présentation l’ont mis en contact étroit avec les communautés portugaises\, la carrière de l’historien et écrivain Daniel Bastos est ancrée dans la diaspora. \nAprès une carrière marquée par la désertion\, l’émigration et l’exil dans les années 60 et 70\, Fernando Mariano Cardeira est rentré au Portugal après le 25 avril 1974. Il a été l’un des fondateurs de l’Association des exilés politiques portugais (AEP61/74) et a présidé le Mouvement civique « N’effacez pas la mémoire ». \n  \nPlus d’informations ici.
URL:https://capmagellan.com/event/litterature-memoires-de-la-dictature-societe-emigration-et-resistance/
CATEGORIES:Littérature,Portugal
ATTACH;FMTTYPE=image/png:https://capmagellan.com/wp-content/uploads/2023/07/Visuel-Culture.png
END:VEVENT
BEGIN:VEVENT
DTSTART;VALUE=DATE:20240924
DTEND;VALUE=DATE:20241121
DTSTAMP:20260421T232725
CREATED:20240910T103142Z
LAST-MODIFIED:20240910T103142Z
UID:42476-1727136000-1732147199@capmagellan.com
SUMMARY:EXPOSITION “Ode à la démocratie”
DESCRIPTION:Inauguration Jeudi 3 Octobre de 18h30 à 19h30\nDu 24 septembre au 20 novembre\nGrilles du square de la tour Saint Jacques – Rue de Rivoli à Paris \nEn présence d’Yves Léonard\, Patricia Newcomer et la Mairie de Paris. \nPhotographies d’Alécio de Andrade\, Jean-Claude Francolon et Guy Le Querrec. Une exposition organisée par Patricia Newcomer et la ville de Paris. \nPlus d’informations ici.
URL:https://capmagellan.com/event/exposition-ode-a-la-democratie/
CATEGORIES:Exposition,Portugal
ATTACH;FMTTYPE=image/jpeg:https://capmagellan.com/wp-content/uploads/2024/09/visuel-exposition-pour-le-site-web-1-2048x1448.jpg
END:VEVENT
BEGIN:VEVENT
DTSTART;TZID=Europe/Paris:20240927T200000
DTEND;TZID=Europe/Paris:20240927T230000
DTSTAMP:20260421T232725
CREATED:20240903T104957Z
LAST-MODIFIED:20240903T105546Z
UID:42416-1727467200-1727478000@capmagellan.com
SUMMARY:CONCERT de Flávia Coelho avec Joaninha et Cassamba
DESCRIPTION:Le 27 septembre à 20h\nLe 106 – Allée François Mitterrand\, Rouen \nFlávia Coelho a construit une identité artistique unique en mêlant pop\, samba\, reggae\, forró\, bossa et hip-hop\, s’éloignant ainsi des stéréotypes de la musique brésilienne. En première partie\, le groupe de samba reggae Joaninha vous emmènera dans un voyage aux rythmes des percussions brésiliennes. Pour clore la soirée\, Cassamba\, un groupe de cinq Normands passionnés de samba\, vous fera découvrir les rythmes et chants traditionnels de Rio de Janeiro. Réservez dès maintenant vos billets ! \nPlus d’informations ici.
URL:https://capmagellan.com/event/concert-de-flavia-coelho-avec-joaninha-et-cassamba/
CATEGORIES:Brésil,concert,Musique
ATTACH;FMTTYPE=image/jpeg:https://capmagellan.com/wp-content/uploads/2023/07/Visuel-Concert-1.jpg
END:VEVENT
BEGIN:VEVENT
DTSTART;VALUE=DATE:20240928
DTEND;VALUE=DATE:20241007
DTSTAMP:20260421T232725
CREATED:20240903T122751Z
LAST-MODIFIED:20240903T122811Z
UID:42421-1727481600-1728259199@capmagellan.com
SUMMARY:FESTIVAL Brésil en Mouvements
DESCRIPTION:Du 28 au 29 septembre au cinéma l’Écran de Saint-Denis\, Saint-Denis\nEt du 3 au 6 octobre au cinéma Les 7 Parnassiens\, Paris \nL’association Autres Brésils lance une campagne de dons pour soutenir la 20ème édition du festival Brésil en Mouvements\, qui se déroulera du 28 au 29 septembre à l’Écran de Saint-Denis et du 3 au 6 octobre aux 7 Parnassiens. Cette édition anniversaire mettra en avant les droits humains\, les populations LGBT+\, la lutte antiraciste et les droits des peuples autochtones. Les fonds recueillis serviront à financer le sous-titrage des œuvres\, la location des salles\, et l’invitation de personnalités pour les débats. L’association appelle à la générosité de tous pour concrétiser ce projet. \nPlus d’informations ici.
URL:https://capmagellan.com/event/festival-bresil-en-mouvements/
CATEGORIES:Brésil,Cinéma,Festival
ATTACH;FMTTYPE=image/jpeg:https://capmagellan.com/wp-content/uploads/2023/07/Visuel-Festival.jpg
END:VEVENT
BEGIN:VEVENT
DTSTART;TZID=Europe/Paris:20240928T200000
DTEND;TZID=Europe/Paris:20240928T233000
DTSTAMP:20260421T232725
CREATED:20240823T133432Z
LAST-MODIFIED:20240823T133832Z
UID:42198-1727553600-1727566200@capmagellan.com
SUMMARY:CONCERT : Le chanteur Roberto Carlos à l'Adidas Arena\, Paris
DESCRIPTION:Le 28 septembre 2024 \nSpectacle à : Adidas Arena\, 158 Boulevard Ney\, 75018 PARIS \nDescription: Venez vivre une soirée sensationnelle avec la légende brésilienne\, Roberto Carlos\, le 28 septembre 2024 à l’Adidas Arena\, Paris! Son panel de sonorités variées allant de l’avant-garde de la bossa nova dans les années 60 aux balades romantiques dans les années 70 font de lui une icône de la chanson brésilienne. Ses différents titres évoquant la foi\, la famille mais principalement l’amour continuent de bercer aujourd’hui un public international. \n  \nLien vers la billeterie.
URL:https://capmagellan.com/event/concert-le-chanteur-roberto-carlos-a-ladidas-arena-paris/
CATEGORIES:Brésil,concert,Musique
ATTACH;FMTTYPE=image/jpeg:https://capmagellan.com/wp-content/uploads/2024/08/visuels-pour-le-site-web.jpg
END:VEVENT
END:VCALENDAR