BEGIN:VCALENDAR
VERSION:2.0
PRODID:-//Cap Magellan - ECPv6.15.20//NONSGML v1.0//EN
CALSCALE:GREGORIAN
METHOD:PUBLISH
X-WR-CALNAME:Cap Magellan
X-ORIGINAL-URL:https://capmagellan.com
X-WR-CALDESC:Évènements pour Cap Magellan
REFRESH-INTERVAL;VALUE=DURATION:PT1H
X-Robots-Tag:noindex
X-PUBLISHED-TTL:PT1H
BEGIN:VTIMEZONE
TZID:Europe/Paris
BEGIN:DAYLIGHT
TZOFFSETFROM:+0100
TZOFFSETTO:+0200
TZNAME:CEST
DTSTART:20230326T010000
END:DAYLIGHT
BEGIN:STANDARD
TZOFFSETFROM:+0200
TZOFFSETTO:+0100
TZNAME:CET
DTSTART:20231029T010000
END:STANDARD
BEGIN:DAYLIGHT
TZOFFSETFROM:+0100
TZOFFSETTO:+0200
TZNAME:CEST
DTSTART:20240331T010000
END:DAYLIGHT
BEGIN:STANDARD
TZOFFSETFROM:+0200
TZOFFSETTO:+0100
TZNAME:CET
DTSTART:20241027T010000
END:STANDARD
BEGIN:DAYLIGHT
TZOFFSETFROM:+0100
TZOFFSETTO:+0200
TZNAME:CEST
DTSTART:20250330T010000
END:DAYLIGHT
BEGIN:STANDARD
TZOFFSETFROM:+0200
TZOFFSETTO:+0100
TZNAME:CET
DTSTART:20251026T010000
END:STANDARD
BEGIN:DAYLIGHT
TZOFFSETFROM:+0100
TZOFFSETTO:+0200
TZNAME:CEST
DTSTART:20260329T010000
END:DAYLIGHT
BEGIN:STANDARD
TZOFFSETFROM:+0200
TZOFFSETTO:+0100
TZNAME:CET
DTSTART:20261025T010000
END:STANDARD
END:VTIMEZONE
BEGIN:VEVENT
DTSTART;VALUE=DATE:20240919
DTEND;VALUE=DATE:20241014
DTSTAMP:20260421T215953
CREATED:20240909T095035Z
LAST-MODIFIED:20240909T095035Z
UID:42468-1726704000-1728863999@capmagellan.com
SUMMARY:Exposition solo de Sónia Aniceto\, plasticienne portugaise à Paris
DESCRIPTION:Exposition solo de Sónia Aniceto à Paris \nDécouvrez le travail de la jeune plasticienne portugaise Sónia Aniceto lors de son exposition solo à la LooLooLook Gallery\, du 19 septembre au 13 octobre 2024. Formée au Portugal et installée à Bruxelles\, Sónia est reconnue pour la qualité exceptionnelle de ses œuvres\, appréciées aussi bien au Portugal qu’en Belgique. Ne manquez pas cette occasion de découvrir son univers artistique unique. \nPlus d’informations sur son site : www.sonia-aniceto.net.
URL:https://capmagellan.com/event/exposition-solo-de-sonia-aniceto-plasticienne-portugaise-a-paris/
CATEGORIES:Art,Exposition,Portugal
ATTACH;FMTTYPE=image/jpeg:https://capmagellan.com/wp-content/uploads/2024/09/visuel-exposition-pour-le-site-web-1-2048x1448.jpg
END:VEVENT
BEGIN:VEVENT
DTSTART;VALUE=DATE:20240924
DTEND;VALUE=DATE:20241121
DTSTAMP:20260421T215953
CREATED:20240910T103142Z
LAST-MODIFIED:20240910T103142Z
UID:42476-1727136000-1732147199@capmagellan.com
SUMMARY:EXPOSITION “Ode à la démocratie”
DESCRIPTION:Inauguration Jeudi 3 Octobre de 18h30 à 19h30\nDu 24 septembre au 20 novembre\nGrilles du square de la tour Saint Jacques – Rue de Rivoli à Paris \nEn présence d’Yves Léonard\, Patricia Newcomer et la Mairie de Paris. \nPhotographies d’Alécio de Andrade\, Jean-Claude Francolon et Guy Le Querrec. Une exposition organisée par Patricia Newcomer et la ville de Paris. \nPlus d’informations ici.
URL:https://capmagellan.com/event/exposition-ode-a-la-democratie/
CATEGORIES:Exposition,Portugal
ATTACH;FMTTYPE=image/jpeg:https://capmagellan.com/wp-content/uploads/2024/09/visuel-exposition-pour-le-site-web-1-2048x1448.jpg
END:VEVENT
BEGIN:VEVENT
DTSTART;VALUE=DATE:20240928
DTEND;VALUE=DATE:20241007
DTSTAMP:20260421T215953
CREATED:20240903T122751Z
LAST-MODIFIED:20240903T122811Z
UID:42421-1727481600-1728259199@capmagellan.com
SUMMARY:FESTIVAL Brésil en Mouvements
DESCRIPTION:Du 28 au 29 septembre au cinéma l’Écran de Saint-Denis\, Saint-Denis\nEt du 3 au 6 octobre au cinéma Les 7 Parnassiens\, Paris \nL’association Autres Brésils lance une campagne de dons pour soutenir la 20ème édition du festival Brésil en Mouvements\, qui se déroulera du 28 au 29 septembre à l’Écran de Saint-Denis et du 3 au 6 octobre aux 7 Parnassiens. Cette édition anniversaire mettra en avant les droits humains\, les populations LGBT+\, la lutte antiraciste et les droits des peuples autochtones. Les fonds recueillis serviront à financer le sous-titrage des œuvres\, la location des salles\, et l’invitation de personnalités pour les débats. L’association appelle à la générosité de tous pour concrétiser ce projet. \nPlus d’informations ici.
URL:https://capmagellan.com/event/festival-bresil-en-mouvements/
CATEGORIES:Brésil,Cinéma,Festival
ATTACH;FMTTYPE=image/jpeg:https://capmagellan.com/wp-content/uploads/2023/07/Visuel-Festival.jpg
END:VEVENT
BEGIN:VEVENT
DTSTART;TZID=Europe/Paris:20241009T080000
DTEND;TZID=Europe/Paris:20250202T170000
DTSTAMP:20260421T215953
CREATED:20240903T135553Z
LAST-MODIFIED:20240903T135715Z
UID:42436-1728460800-1738515600@capmagellan.com
SUMMARY:EXPOSITION de Tarsila do Amaral
DESCRIPTION:Du 9 octobre 2024 au 2 février 2025\nAu Musée du Luxembourg\, 19 Rue de Vaugirard\, Paris \nFigure centrale du modernisme brésilien\, Tarsila do Amaral (1886-1973) est la créatrice d’une œuvre originale et évocatrice\, puisant dans les imaginaires indigéniste\, populaire et moderne d’un pays en pleine transformation. \nÀ Paris\, dans les années 1920\, elle met son univers iconographique à l’épreuve du cubisme et du primitivisme\, avant d’initier\, à São Paulo\, le mouvement « anthropophagique »\, prônant la « dévoration »\, par les Brésiliens\, des cultures étrangères et colonisatrices\, comme forme à la fois d’assimilation et de résistance. \nSes paysages aux couleurs vives laissent alors la place à des visions insolites et fascinantes\, avant qu’une dimension plus ouvertement politique n’apparaisse dans ses toiles des années 1930. Le gigantisme onirique et la géométrie presque abstraite de ses dernières compositions ne font que confirmer la puissance d’une œuvre ancrée dans son temps et toujours prête à se renouveler. \nVenant combler un manque de reconnaissance de l’artiste en Europe et présentant quelques aspects inédits de son œuvre\, cette rétrospective nous invite au cœur du Brésil moderne et de ses clivages entre tradition et avant-garde\, centres et périphéries\, cultures savantes et populaires. \nExposition organisée par GrandPalaisRmn \nSous le haut patronage de Monsieur Emmanuel MACRON\, Président de la République \nL’exposition sera ensuite présentée au musée Guggenheim de Bilbao\, du 28 février au 8 juin 2025 \nPlus d’informations ici.
URL:https://capmagellan.com/event/exposition-de-tarsila-do-amaral/
CATEGORIES:Art,Brésil,Exposition
ATTACH;FMTTYPE=image/jpeg:https://capmagellan.com/wp-content/uploads/2023/07/Visuel-Exposition-Pour-le-site-web-1.jpg
END:VEVENT
BEGIN:VEVENT
DTSTART;VALUE=DATE:20241010
DTEND;VALUE=DATE:20241011
DTSTAMP:20260421T215953
CREATED:20240930T151952Z
LAST-MODIFIED:20240930T152126Z
UID:42617-1728518400-1728604799@capmagellan.com
SUMMARY:Concert de Claire Luzi aux 2 Pianos
DESCRIPTION:Claire Luzi révèlera “Ce Corta-Jaca”\, son nouvel EP à l’occasion de sa sortie le 20 septembre 2024 chez La Roda / InOuïe Distribution. Cet opus sera présenté le jeudi 10 octobre 2024 sur la scène de Les 2 Pianos lors d’un concert de lancement exceptionnel. \nClaire Luzi se livre et nous raconte\, avec ce nouveau quartet et des chansons en français\, ses pensées\, ses rêves et ses fantaisies. Une ode à la nature\, aux femmes et à la liberté où les mots choisis par Claire Luzi s’entremêlent parfaitement aux notes de musique sur les joyeuses mélodies du choro brésilien. \nlien vers la billeterie
URL:https://capmagellan.com/event/concert-de-claire-luzi-aux-2-pianos/
CATEGORIES:concert,Fado,Musique,Portugal
ATTACH;FMTTYPE=image/jpeg:https://capmagellan.com/wp-content/uploads/2024/09/affiche-lancementv4©nicolas-blanchard.jpg
END:VEVENT
BEGIN:VEVENT
DTSTART;VALUE=DATE:20241016
DTEND;VALUE=DATE:20241117
DTSTAMP:20260421T215953
CREATED:20240910T133216Z
LAST-MODIFIED:20240910T133216Z
UID:42478-1729036800-1731801599@capmagellan.com
SUMMARY:FESTIVAL Picta Lusa
DESCRIPTION:Du 16 octobre au 16 novembre \n\nUn mois d’exposition\, dégustations\, projections et concerts !\nPlus d’informations sur la page facebook de l’Association lusophone Em-Busca-De
URL:https://capmagellan.com/event/festival-picta-lusa/
CATEGORIES:Cap-Vert,Cinéma,concert,Convivialité,Exposition,Festival
ATTACH;FMTTYPE=image/jpeg:https://capmagellan.com/wp-content/uploads/2023/07/Visuel-Festival.jpg
END:VEVENT
BEGIN:VEVENT
DTSTART;TZID=Europe/Paris:20241017T080000
DTEND;TZID=Europe/Paris:20241017T170000
DTSTAMP:20260421T215953
CREATED:20240922T131844Z
LAST-MODIFIED:20241001T084649Z
UID:42600-1729152000-1729184400@capmagellan.com
SUMMARY:La Voix du Fado : Duarte
DESCRIPTION:Jeudi 17 octobre 2024\, 20h30\nSalle Cortot\n78 Rue Cardinet\, 75017 Paris \n\nDuarte\, poète et auteur-compositeur-interprète\, présente un concert acoustique autour du fado\, accompagné de ses trois guitaristes ! \nlien vers la  billeterie 
URL:https://capmagellan.com/event/la-voix-du-fado-duarte/
CATEGORIES:concert,Fado,Portugal
ATTACH;FMTTYPE=image/png:https://capmagellan.com/wp-content/uploads/2024/09/duarte-1.png
END:VEVENT
BEGIN:VEVENT
DTSTART;TZID=Europe/Paris:20241018T203000
DTEND;TZID=Europe/Paris:20241018T223000
DTSTAMP:20260421T215953
CREATED:20241014T150728Z
LAST-MODIFIED:20241014T150728Z
UID:42693-1729283400-1729290600@capmagellan.com
SUMMARY:Carolina Deslandes en concert à Pontault-Combault
DESCRIPTION:Vendredi 18 octobre\, 20h30 – Les Passerelles – 17 Rue Saint-Clair\, 77340 Pontault-Combault. \nCarolina Deslandes\, étoile montante de la musique portugaise\, se produira ce vendredi 18 octobre à 20h30 aux Passerelles à Pontault-Combault. Organisé par Les Passerelles et l’Association Portugaise Culturelle et Sociale (APCS)\, ce concert vous permettra de découvrir\, en France\, cette artiste acclamée au Portugal pour sa pop à la fois douce et entraînante. \nNée en 1991 à Lisbonne\, Carolina Deslandes connaît une ascension rapide depuis sa participation en 2010 à l’émission de télécrochet Ídolos (SIC)\, où elle atteint les phases finales en direct. Son premier album éponyme (2012) rencontre un grand succès\, notamment grâce au single Não É Verdade. En 2016\, elle lance Blossom\, puis en 2017\, le single A Vida Toda\, qui s’impose en tête des classements portugais sur iTunes et Spotify et dépasse les 7 millions de vues sur Youtube le mois de son lancement. Son album Casa (2018) débute directement à la première place des ventes au Portugal. \nEn 2023\, Carolina publie un double album\, Caos e Calma\, avec des titres comme Vai Lá\, Saia da Carolina et Brincar de Ser Feliz. Deslandes continue de remplir les salles au Portugal et devient la première chanteuse pop portugaise à se produire en solo à l’Altice Arena. En 2022\, l’artiste reçoit le Globo de Ouro de la meilleure performance pour son concert au Coliseu dos Recreios\, portant à trois le nombre de ses trophées\, après ceux pour A Vida Toda et Por Um Triz\, ce dernier lui ayant également valu une nomination pour la meilleure interprétation au Festival da Canção de 2021. \nDébut 2024\, Carolina Deslandes fait ses premiers pas au théâtre aux côtés de Bárbara Tinoco dans la comédie musicale A Madrugada Que Eu Esperava. Ce spectacle donne lieu à un album célébrant les 50 ans de la Révolution du 25 avril 1974\, réunissant certains des plus grands noms de la musique portugaise. \nSon nouveau single Como é Linda\, lancé après Caos e Calma\, marque un tournant vers des chansons plus joyeuses. Selon Deslandes\, ses chansons tristes avaient une fonction thérapeutique\, mais ce nouveau titre représente un tournant artistique dans sa carrière. \nRéservez vos places dès maintenant ! Comme toujours\, l’Association Portugaise Culturelle et Sociale de Pontault-Combault proposera un avant/après concert pour célébrer la culture lusophone.
URL:https://capmagellan.com/event/carolina-deslandes-en-concert-a-pontault-combault/
CATEGORIES:concert,Musique,Portugal
ATTACH;FMTTYPE=image/jpeg:https://capmagellan.com/wp-content/uploads/2023/07/Visuel-Concert-1.jpg
END:VEVENT
END:VCALENDAR