BEGIN:VCALENDAR
VERSION:2.0
PRODID:-//Cap Magellan - ECPv6.15.20//NONSGML v1.0//EN
CALSCALE:GREGORIAN
METHOD:PUBLISH
X-ORIGINAL-URL:https://capmagellan.com
X-WR-CALDESC:Évènements pour Cap Magellan
REFRESH-INTERVAL;VALUE=DURATION:PT1H
X-Robots-Tag:noindex
X-PUBLISHED-TTL:PT1H
BEGIN:VTIMEZONE
TZID:Europe/Paris
BEGIN:DAYLIGHT
TZOFFSETFROM:+0100
TZOFFSETTO:+0200
TZNAME:CEST
DTSTART:20220327T010000
END:DAYLIGHT
BEGIN:STANDARD
TZOFFSETFROM:+0200
TZOFFSETTO:+0100
TZNAME:CET
DTSTART:20221030T010000
END:STANDARD
BEGIN:DAYLIGHT
TZOFFSETFROM:+0100
TZOFFSETTO:+0200
TZNAME:CEST
DTSTART:20230326T010000
END:DAYLIGHT
BEGIN:STANDARD
TZOFFSETFROM:+0200
TZOFFSETTO:+0100
TZNAME:CET
DTSTART:20231029T010000
END:STANDARD
BEGIN:DAYLIGHT
TZOFFSETFROM:+0100
TZOFFSETTO:+0200
TZNAME:CEST
DTSTART:20240331T010000
END:DAYLIGHT
BEGIN:STANDARD
TZOFFSETFROM:+0200
TZOFFSETTO:+0100
TZNAME:CET
DTSTART:20241027T010000
END:STANDARD
END:VTIMEZONE
BEGIN:VEVENT
DTSTART;TZID=Europe/Paris:20231115T190000
DTEND;TZID=Europe/Paris:20231115T190000
DTSTAMP:20260422T154237
CREATED:20231106T140337Z
LAST-MODIFIED:20231106T140337Z
UID:37996-1700074800-1700074800@capmagellan.com
SUMMARY:CONCERT : Mayra Andrade au Trianon !
DESCRIPTION:Le Trianon 80\, boulevard de Rochechouart\, Paris\, France \n\n\nLe 15 novembre à 19h Au Trianon 80 Boulevard de Rochechouart\, 75018 Paris. La chanteuse Cap-Verdienne\, accompagnée de son compatriote Djodje Almeida à la guitare\, nous invite à redécouvrir son univers dans une ambiance intimiste! Piochant dans l’ensemble de sa discographie\, de Navega (2006) à Manga (2019)\, voilà l’occasion pour nous de rédécouvrir certaines de ses plus belles chansons. \n\nPour plus d’information\, rendez-vous sur :\nInstagram : @mayraandradeofficial\nFacebook : Mayra Andrade\nla billetterie officielle : Le Trianon\nCrédit photo : reEncanto
URL:https://capmagellan.com/event/concert-mayra-andrade-au-trianon-2/
LOCATION:LE TRIANON\, 80 BD DE ROCHECHOUART\, Paris\, 75018\, France
CATEGORIES:Cap-Vert,concert,Musique
ATTACH;FMTTYPE=image/jpeg:https://capmagellan.com/wp-content/uploads/2023/11/M-A_POST_TRIANON.jpg
END:VEVENT
END:VCALENDAR