BEGIN:VCALENDAR
VERSION:2.0
PRODID:-//Cap Magellan - ECPv6.15.20//NONSGML v1.0//EN
CALSCALE:GREGORIAN
METHOD:PUBLISH
X-WR-CALNAME:Cap Magellan
X-ORIGINAL-URL:https://capmagellan.com
X-WR-CALDESC:Évènements pour Cap Magellan
REFRESH-INTERVAL;VALUE=DURATION:PT1H
X-Robots-Tag:noindex
X-PUBLISHED-TTL:PT1H
BEGIN:VTIMEZONE
TZID:Europe/Paris
BEGIN:DAYLIGHT
TZOFFSETFROM:+0100
TZOFFSETTO:+0200
TZNAME:CEST
DTSTART:20220327T010000
END:DAYLIGHT
BEGIN:STANDARD
TZOFFSETFROM:+0200
TZOFFSETTO:+0100
TZNAME:CET
DTSTART:20221030T010000
END:STANDARD
BEGIN:DAYLIGHT
TZOFFSETFROM:+0100
TZOFFSETTO:+0200
TZNAME:CEST
DTSTART:20230326T010000
END:DAYLIGHT
BEGIN:STANDARD
TZOFFSETFROM:+0200
TZOFFSETTO:+0100
TZNAME:CET
DTSTART:20231029T010000
END:STANDARD
BEGIN:DAYLIGHT
TZOFFSETFROM:+0100
TZOFFSETTO:+0200
TZNAME:CEST
DTSTART:20240331T010000
END:DAYLIGHT
BEGIN:STANDARD
TZOFFSETFROM:+0200
TZOFFSETTO:+0100
TZNAME:CET
DTSTART:20241027T010000
END:STANDARD
END:VTIMEZONE
BEGIN:VEVENT
DTSTART;TZID=Europe/Paris:20231118T173000
DTEND;TZID=Europe/Paris:20231118T230000
DTSTAMP:20260422T153446
CREATED:20231019T135742Z
LAST-MODIFIED:20231019T135758Z
UID:37865-1700328600-1700348400@capmagellan.com
SUMMARY:BAL Hèsta de las broishas (la fête des sorcières)
DESCRIPTION:Le 18 novembre 2023 à la Salle Polyvalente de Morlaàs. \nPlace de la Hourquie\, salle polyvalente\n64160 Morlaas\, France \nGratuit de 17h30 à 19h. \nEntrée à 10 pour le dîner à 20h et le Bal à 21h animé par Lua Blue et Mara des Bois. \nContacte de L’Association Lusophonie : lusophonie.pau@gmail.com18 novembre 2023 \n  \nAffiche : Lusophonie.pau
URL:https://capmagellan.com/event/bal-hesta-de-las-broishas-la-fete-des-sorcieres/
LOCATION:Salle polyvalente de Morlaàs\, Morlaas\, Nouvelle-Aquitaine\, 64160\, France
CATEGORIES:Brésil,concert,Danse
ATTACH;FMTTYPE=image/jpeg:https://capmagellan.com/wp-content/uploads/2023/10/18-novembre-2023.jpg
END:VEVENT
BEGIN:VEVENT
DTSTART;TZID=Europe/Paris:20231118T203000
DTEND;TZID=Europe/Paris:20231118T203000
DTSTAMP:20260422T153446
CREATED:20231106T141918Z
LAST-MODIFIED:20231108T113050Z
UID:38000-1700339400-1700339400@capmagellan.com
SUMMARY:LURA EN CONCERT Le 18 novembre à 20h30
DESCRIPTION:Le 18 novembre à 20h30\nLes Passerelles\, 17 rue Saint-Clair\, \n77340 Pontault-Combault \nLura\, l’une des voix les plus reconnues internationalement de la musique lusophone\, est de retour avec un nouvel album et un concert renouvelé. \nAprès plus de 25 années de carrière\, Lura entame une révolution\, à l’occasion d’un album accueillant de nouveaux sons\, tout en restant fidèle à ses racines du Portugal et du Cap Vert. \nLa voix de Lura est sans artifices\, elle contamine les publics du monde entier grâce à son incroyable performance scénique qui dépasse toutes les frontières de styles\, de lieux et de temps. \nPour plus d’information\, rendez-vous sur : \n\nInstagram : @lura_criola\nFacebook : Lura Oficial\nla billetterie officielle : https://lespasserelles.notre-billetterie.fr/billets?spec=780\n\n© D.R.\nProduction Les Visiteurs du Soir
URL:https://capmagellan.com/event/lura-en-concert-le-18-novembre-a-20h30/
LOCATION:Les Passerelles\, 17 rue Saint-Clair\, Pontault-Combault\, Ile de France\, 77340\, France
CATEGORIES:Cap-Vert,concert,Musique
ATTACH;FMTTYPE=image/jpeg:https://capmagellan.com/wp-content/uploads/2023/07/Visuel-Concert-1.jpg
END:VEVENT
END:VCALENDAR