BEGIN:VCALENDAR
VERSION:2.0
PRODID:-//Cap Magellan - ECPv6.15.20//NONSGML v1.0//EN
CALSCALE:GREGORIAN
METHOD:PUBLISH
X-WR-CALNAME:Cap Magellan
X-ORIGINAL-URL:https://capmagellan.com
X-WR-CALDESC:Évènements pour Cap Magellan
REFRESH-INTERVAL;VALUE=DURATION:PT1H
X-Robots-Tag:noindex
X-PUBLISHED-TTL:PT1H
BEGIN:VTIMEZONE
TZID:Europe/Paris
BEGIN:DAYLIGHT
TZOFFSETFROM:+0100
TZOFFSETTO:+0200
TZNAME:CEST
DTSTART:20230326T010000
END:DAYLIGHT
BEGIN:STANDARD
TZOFFSETFROM:+0200
TZOFFSETTO:+0100
TZNAME:CET
DTSTART:20231029T010000
END:STANDARD
BEGIN:DAYLIGHT
TZOFFSETFROM:+0100
TZOFFSETTO:+0200
TZNAME:CEST
DTSTART:20240331T010000
END:DAYLIGHT
BEGIN:STANDARD
TZOFFSETFROM:+0200
TZOFFSETTO:+0100
TZNAME:CET
DTSTART:20241027T010000
END:STANDARD
BEGIN:DAYLIGHT
TZOFFSETFROM:+0100
TZOFFSETTO:+0200
TZNAME:CEST
DTSTART:20250330T010000
END:DAYLIGHT
BEGIN:STANDARD
TZOFFSETFROM:+0200
TZOFFSETTO:+0100
TZNAME:CET
DTSTART:20251026T010000
END:STANDARD
END:VTIMEZONE
BEGIN:VEVENT
DTSTART;TZID=Europe/Paris:20240217T180000
DTEND;TZID=Europe/Paris:20240217T180000
DTSTAMP:20260422T112025
CREATED:20240126T152355Z
LAST-MODIFIED:20240308T104107Z
UID:38569-1708192800-1708192800@capmagellan.com
SUMMARY:HISTOIRE 6e Black History Month\, Centenaire de la naissance d’Amilcar Cabral
DESCRIPTION:Le 17 février à 18h\nMaison Muller\,\n6 Rue Muller\, 75018 Paris\n  \n\nTable-ronde Amilcar Cabral et Les créolisations lusophones avec Pierre Tavares\, Fernanda Cabral Semedo et Paulette Gomis\nExposition « Guinée-Bissau\, Regards Manjack » de Michelle Corréa\nCiné-débat\, projection du film d’animation Nayola de José Miguel Ribeiro: trois femmes racontent la guerre en Angola.\n\n  \nTexte: Association Mémoires et Partages 
URL:https://capmagellan.com/event/6e-black-history-month-centenaire-de-la-naissance-damilcar-cabral-3/
LOCATION:6 Rue Muller\, 75018 Paris\, France
CATEGORIES:Cap-Vert,Convivialité,Exposition,Famille,Histoire
ATTACH;FMTTYPE=image/png:https://capmagellan.com/wp-content/uploads/2023/07/Visuel-Culture.png
ORGANIZER;CN="Association M%C3%A9moires et Partages":MAILTO:memoires.partages@gmail.com
END:VEVENT
END:VCALENDAR