BEGIN:VCALENDAR
VERSION:2.0
PRODID:-//Cap Magellan - ECPv6.15.20//NONSGML v1.0//EN
CALSCALE:GREGORIAN
METHOD:PUBLISH
X-WR-CALNAME:Cap Magellan
X-ORIGINAL-URL:https://capmagellan.com
X-WR-CALDESC:Évènements pour Cap Magellan
REFRESH-INTERVAL;VALUE=DURATION:PT1H
X-Robots-Tag:noindex
X-PUBLISHED-TTL:PT1H
BEGIN:VTIMEZONE
TZID:Europe/Paris
BEGIN:DAYLIGHT
TZOFFSETFROM:+0100
TZOFFSETTO:+0200
TZNAME:CEST
DTSTART:20230326T010000
END:DAYLIGHT
BEGIN:STANDARD
TZOFFSETFROM:+0200
TZOFFSETTO:+0100
TZNAME:CET
DTSTART:20231029T010000
END:STANDARD
BEGIN:DAYLIGHT
TZOFFSETFROM:+0100
TZOFFSETTO:+0200
TZNAME:CEST
DTSTART:20240331T010000
END:DAYLIGHT
BEGIN:STANDARD
TZOFFSETFROM:+0200
TZOFFSETTO:+0100
TZNAME:CET
DTSTART:20241027T010000
END:STANDARD
BEGIN:DAYLIGHT
TZOFFSETFROM:+0100
TZOFFSETTO:+0200
TZNAME:CEST
DTSTART:20250330T010000
END:DAYLIGHT
BEGIN:STANDARD
TZOFFSETFROM:+0200
TZOFFSETTO:+0100
TZNAME:CET
DTSTART:20251026T010000
END:STANDARD
END:VTIMEZONE
BEGIN:VEVENT
DTSTART;VALUE=DATE:20240820
DTEND;VALUE=DATE:20240901
DTSTAMP:20260422T022800
CREATED:20240806T090552Z
LAST-MODIFIED:20240806T090640Z
UID:41965-1724112000-1725148799@capmagellan.com
SUMMARY:EXPOSITION : Voyage photographique : le Cap-Vert entre terres et mers
DESCRIPTION:Du 20 au 31 août\nChapelle des Cordeliers\, \nRue Baptiste Marcet\, \n79200 Parthenay\nLe « Petit-Pays » de Césaria Evora viendra habiller la chapelle des Cordeliers du 20 au 31 août\, à travers une exposition photographique toute en couleurs et en dépaysement. \nL’association de quatre photographes (3 Cap-verdiens (Eneias Rodrigues\, Vadu Rodrigues et Cristiano Barbosa) et 1 Français (Léo Moreau)\, établi au Cap-Vert depuis plusieurs années) vous permettra de découvrir l’archipel atlantique par des regards croisés\, transposant dans leurs photographies leurs histoires\, leurs expériences personnelles et leurs rapports au Cap-Vert. \n« C’est un projet qui nous tient à cœur et que nous menons en commun depuis le départ\, où nous tenons pour ligne directrice la volonté de montrer au monde la beauté du Cap-Vert sous tous ses aspects. Par-delà nos travaux et nos approches artistiques personnelles\, nous avons voulu proposer des thématiques variées\, pour que le public puisse découvrir un peu de la diversité de notre pays\, encore méconnu et confidentiel ». \nPlus d’informations sur le site : parthenay.fr \n 
URL:https://capmagellan.com/event/exposition-voyage-photographique-le-cap-vert-entre-terres-et-mers/
CATEGORIES:Art,Cap-Vert,Exposition
ATTACH;FMTTYPE=image/jpeg:https://capmagellan.com/wp-content/uploads/2023/07/Visuel-Exposition-Pour-le-site-web-1.jpg
END:VEVENT
BEGIN:VEVENT
DTSTART;VALUE=DATE:20240821
DTEND;VALUE=DATE:20240826
DTSTAMP:20260422T022800
CREATED:20240703T084814Z
LAST-MODIFIED:20240703T084814Z
UID:41211-1724198400-1724630399@capmagellan.com
SUMMARY:Le Festival International du Film Insulaire à l'île de Groix
DESCRIPTION:Du 21 au 25 août 2024 sur l’Ile de Groix\, Port Lay\nPlanifiez votre itinéraire içi.\nLe Festival International du Film Insulaire de Groix (FIFIG) s’attache depuis plus de vingt ans à mettre en valeur et à promouvoir les cultures insulaires au travers de la production cinématographique et audiovisuelle des îles du monde. \nUne programmation pluridisciplinaire\, variée et exigeante \nMême si le cœur de l’événement reste la compétition internationale de films documentaires\, une large place est accordée\, à chaque nouvelle édition\, à la découverte d’une « île invitée » ou d’une thématique\, à travers bien évidemment le cinéma\, mais aussi une programmation musicale\, des spectacles vivants\, des rencontres littéraires et des expositions. \nCette année\, cap sur les îles portugaises ! Cinq jours de découvertes\, de réflexions\, d’échanges\, de rencontres\, de fête dans les lieux magiques du festival ! Pour cette 23e édition\, ce sont les archipels de Madère et des Açores qui seront à l’honneur du festival : leurs univers riche d’histoire et de culture\, que l’équipage du FIFIG et ses invité.e.s souhaitent vous faire approcher.\nRégalez-vous et fêtons le plaisir d’être ensemble ! \nLien vers le site officiel.\nLien vers la billeterie.
URL:https://capmagellan.com/event/le-festival-international-du-film-insulaire-a-lile-de-groix/
LOCATION:port lay\, île de groix
CATEGORIES:Cinéma,Portugal
ATTACH;FMTTYPE=image/jpeg:https://capmagellan.com/wp-content/uploads/2023/07/Visuel-Cinema.jpg
END:VEVENT
END:VCALENDAR