BEGIN:VCALENDAR
VERSION:2.0
PRODID:-//Cap Magellan - ECPv6.15.20//NONSGML v1.0//EN
CALSCALE:GREGORIAN
METHOD:PUBLISH
X-ORIGINAL-URL:https://capmagellan.com
X-WR-CALDESC:Évènements pour Cap Magellan
REFRESH-INTERVAL;VALUE=DURATION:PT1H
X-Robots-Tag:noindex
X-PUBLISHED-TTL:PT1H
BEGIN:VTIMEZONE
TZID:Europe/Paris
BEGIN:DAYLIGHT
TZOFFSETFROM:+0100
TZOFFSETTO:+0200
TZNAME:CEST
DTSTART:20230326T010000
END:DAYLIGHT
BEGIN:STANDARD
TZOFFSETFROM:+0200
TZOFFSETTO:+0100
TZNAME:CET
DTSTART:20231029T010000
END:STANDARD
BEGIN:DAYLIGHT
TZOFFSETFROM:+0100
TZOFFSETTO:+0200
TZNAME:CEST
DTSTART:20240331T010000
END:DAYLIGHT
BEGIN:STANDARD
TZOFFSETFROM:+0200
TZOFFSETTO:+0100
TZNAME:CET
DTSTART:20241027T010000
END:STANDARD
BEGIN:DAYLIGHT
TZOFFSETFROM:+0100
TZOFFSETTO:+0200
TZNAME:CEST
DTSTART:20250330T010000
END:DAYLIGHT
BEGIN:STANDARD
TZOFFSETFROM:+0200
TZOFFSETTO:+0100
TZNAME:CET
DTSTART:20251026T010000
END:STANDARD
END:VTIMEZONE
BEGIN:VEVENT
DTSTART;VALUE=DATE:20240919
DTEND;VALUE=DATE:20241014
DTSTAMP:20260422T010709
CREATED:20240909T095035Z
LAST-MODIFIED:20240909T095035Z
UID:42468-1726704000-1728863999@capmagellan.com
SUMMARY:Exposition solo de Sónia Aniceto\, plasticienne portugaise à Paris
DESCRIPTION:Exposition solo de Sónia Aniceto à Paris \nDécouvrez le travail de la jeune plasticienne portugaise Sónia Aniceto lors de son exposition solo à la LooLooLook Gallery\, du 19 septembre au 13 octobre 2024. Formée au Portugal et installée à Bruxelles\, Sónia est reconnue pour la qualité exceptionnelle de ses œuvres\, appréciées aussi bien au Portugal qu’en Belgique. Ne manquez pas cette occasion de découvrir son univers artistique unique. \nPlus d’informations sur son site : www.sonia-aniceto.net.
URL:https://capmagellan.com/event/exposition-solo-de-sonia-aniceto-plasticienne-portugaise-a-paris/
CATEGORIES:Art,Exposition,Portugal
ATTACH;FMTTYPE=image/jpeg:https://capmagellan.com/wp-content/uploads/2024/09/visuel-exposition-pour-le-site-web-1-2048x1448.jpg
END:VEVENT
END:VCALENDAR