BEGIN:VCALENDAR
VERSION:2.0
PRODID:-//Cap Magellan - ECPv6.15.20//NONSGML v1.0//EN
CALSCALE:GREGORIAN
METHOD:PUBLISH
X-WR-CALNAME:Cap Magellan
X-ORIGINAL-URL:https://capmagellan.com
X-WR-CALDESC:Évènements pour Cap Magellan
REFRESH-INTERVAL;VALUE=DURATION:PT1H
X-Robots-Tag:noindex
X-PUBLISHED-TTL:PT1H
BEGIN:VTIMEZONE
TZID:Europe/Paris
BEGIN:DAYLIGHT
TZOFFSETFROM:+0100
TZOFFSETTO:+0200
TZNAME:CEST
DTSTART:20240331T010000
END:DAYLIGHT
BEGIN:STANDARD
TZOFFSETFROM:+0200
TZOFFSETTO:+0100
TZNAME:CET
DTSTART:20241027T010000
END:STANDARD
BEGIN:DAYLIGHT
TZOFFSETFROM:+0100
TZOFFSETTO:+0200
TZNAME:CEST
DTSTART:20250330T010000
END:DAYLIGHT
BEGIN:STANDARD
TZOFFSETFROM:+0200
TZOFFSETTO:+0100
TZNAME:CET
DTSTART:20251026T010000
END:STANDARD
BEGIN:DAYLIGHT
TZOFFSETFROM:+0100
TZOFFSETTO:+0200
TZNAME:CEST
DTSTART:20260329T010000
END:DAYLIGHT
BEGIN:STANDARD
TZOFFSETFROM:+0200
TZOFFSETTO:+0100
TZNAME:CET
DTSTART:20261025T010000
END:STANDARD
END:VTIMEZONE
BEGIN:VEVENT
DTSTART;VALUE=DATE:20250123
DTEND;VALUE=DATE:20250913
DTSTAMP:20260422T002444
CREATED:20250429T144335Z
LAST-MODIFIED:20250429T144335Z
UID:44084-1737590400-1757721599@capmagellan.com
SUMMARY:Parfums de Lisbonne 2025
DESCRIPTION:Du jeudi 23 janvier au vendredi 12 septembre \nDepuis 18 ans\, Parfums de Lisbonne jongle entre la capitale française et la capitale portugaise. Plus qu’un festival\, c’est un événement artistique et humain entre deux cultures qui se parlent\, se reconnaissent et s’enrichissent mutuellement. Porté par la compagnie bilingue Cá e Lá\, ce rendez-vous singulier revient en 2025 avec une édition vibrante autour d’un thème fort : Artivismes / Artivismos. \nProgramme complet : https://parfumsdelisbonne.com/programme/
URL:https://capmagellan.com/event/parfums-de-lisbonne-2025/
CATEGORIES:Convivialité,Exposition,Festival,Littérature,Portugal
ATTACH;FMTTYPE=image/webp:https://capmagellan.com/wp-content/uploads/2025/04/pdl25-cover-fb-ok-200dpi-mai-jui.webp
END:VEVENT
BEGIN:VEVENT
DTSTART;VALUE=DATE:20250503
DTEND;VALUE=DATE:20250519
DTSTAMP:20260422T002444
CREATED:20250429T122419Z
LAST-MODIFIED:20250429T122847Z
UID:44060-1746230400-1747612799@capmagellan.com
SUMMARY:Fernando Daniel en France
DESCRIPTION:Du 3 mai 2025 au 18 mai 2025\nToulouse\, Bordeaux et Lyon \nSamedi 3 mai à Toulouse 20h30 au Casino Barrière 18 Chem. de la Loge\, 31400 Toulouse\nhttps://www.ticketmaster.fr/fr/manifestation/fernando-daniel-billet/idmanif/590381 \nDimanche 4 mai à Bordeaux 16 h au Théâtre Femina 10 Rue de Grassi\, 33000 Bordeaux\nhttps://www.ticketmaster.fr/fr/manifestation/fernando-daniel-billet/idmanif/588407 \nDimanche 18 mai à Caluire (Lyon) 16h au Radiant-Bellevue\, 1 Rue Jean Moulin\, 69300 Caluire-et-Cuire\nhttps://www.ticketmaster.fr/fr/manifestation/fernando-daniel-billet/idmanif/588509 \nLe phénomène pop portugais Fernando Daniel débarque en France pour trois dates uniques ! À Toulouse (Casino Barrière)\, Bordeaux (Théâtre Fémina) et Caluire (RadiantBellevue)\, il présente un concert généreux où les tubes s’enchaînent : « Casa »\, « Prometo »\, « Voltas »\, mais aussi « Dois »\, entre autres. Avec plus de 450 millions de streams et des concerts complets dans toutes les grandes salles du Portugal\, Fernando Daniel s’impose comme une référence. Une voix puissante\, une énergie contagieuse\, un rendez-vous immanquable.
URL:https://capmagellan.com/event/fernando-daniel-en-france/
CATEGORIES:concert,Convivialité,Musique,Portugal
ATTACH;FMTTYPE=image/jpeg:https://capmagellan.com/wp-content/uploads/2025/04/fernando-daniel.jpg
END:VEVENT
BEGIN:VEVENT
DTSTART;VALUE=DATE:20250503
DTEND;VALUE=DATE:20250504
DTSTAMP:20260422T002444
CREATED:20250429T144616Z
LAST-MODIFIED:20250429T144616Z
UID:44087-1746230400-1746316799@capmagellan.com
SUMMARY:FÊTE FRANCO-PORTUGAISE À THIAIS
DESCRIPTION:Le 3 mai 2025 à 20h\nPalais Omnisports\n6 place Vincent Van Gogh\, 94320 Thiais \nL’Association Franco-Portugaise de Thiais organise deux jours de fête hauts en couleurs ! Le 3 mai 2025 à 20h\, place aux Rusgas\, avec de nombreux groupes folkloriques venus de toute l’Île-de-France. Et le 4 mai 2025 dès 14h\, un grand festival avec 7 groupes folkloriques portugais\, de Thiais à Nanterre en passant par Vitry-sur-Seine. \nAnimation : DJ Oliveira\nTombola : 1 voyage au Portugal à gagner !
URL:https://capmagellan.com/event/fete-franco-portugaise-a-thiais/
CATEGORIES:Convivialité,Danse,Folklore,Musique,Portugal
END:VEVENT
BEGIN:VEVENT
DTSTART;VALUE=DATE:20250518
DTEND;VALUE=DATE:20250519
DTSTAMP:20260422T002444
CREATED:20250429T144848Z
LAST-MODIFIED:20250429T144848Z
UID:44089-1747526400-1747612799@capmagellan.com
SUMMARY:FESTIVAL FOLKLORIQUE à Joinville-le-Pont
DESCRIPTION:Le dimanche 18 mai 2025 à partir de 14h\nMairie de Joinville-le-Pont\n23 rue de Paris\, 94340 Joinville-le-Pont \nUn après-midi aux couleurs du Portugal\, organisé par Estrelas do Norte\, vous attend le dimanche 18 mai 2025 à partir de 14h à la Mairie de Joinville-le-Pont ! Au programme : chants et danses traditionnels avec plusieurs groupes folkloriques portugais\, des spécialités portugaises à déguster sur place\, et une tombola avec de nombreux lots à gagner. \nRéservation conseillée au 06 29 81 69 95
URL:https://capmagellan.com/event/festival-folklorique-a-joinville-le-pont/
CATEGORIES:Convivialité,Danse,Folklore,Musique,Portugal
ATTACH;FMTTYPE=image/jpeg:https://capmagellan.com/wp-content/uploads/2025/04/482271556-1051352007022130-3449826978559699681-n.jpg
END:VEVENT
BEGIN:VEVENT
DTSTART;VALUE=DATE:20250531
DTEND;VALUE=DATE:20250601
DTSTAMP:20260422T002444
CREATED:20250429T145209Z
LAST-MODIFIED:20250429T145209Z
UID:44092-1748649600-1748735999@capmagellan.com
SUMMARY:DÎNER-DANSANT À ARGENTEUIL
DESCRIPTION:Le samedi 31 mai 2025 dès 19h\nSalle Atrium\nRoute de Cormeilles\, 95100 Argenteuil \nUne soirée chaleureuse au rythme de la musique portugaise au Centre Pastoral Portugais d’Argenteuil !\nRendez-vous le samedi 31 mai 2025 dès 19h pour un dîner dansant animé par Alexandre Silva.\nAu menu : Rancho\, fromage\, dessert et café. Menu : 26 € (hors boissons) \nRéservations : M. Neto 06 72 26 23 44 / M. Costa 06 08 97 39 67
URL:https://capmagellan.com/event/diner-dansant-a-argenteuil/
CATEGORIES:Convivialité,Danse,Exposition,Folklore,Gastronomie,Portugal
ATTACH;FMTTYPE=image/jpeg:https://capmagellan.com/wp-content/uploads/2025/04/489804805-1107909888016818-7437062890073690181-n-1.jpg
END:VEVENT
END:VCALENDAR