BEGIN:VCALENDAR
VERSION:2.0
PRODID:-//Cap Magellan - ECPv6.15.20//NONSGML v1.0//EN
CALSCALE:GREGORIAN
METHOD:PUBLISH
X-ORIGINAL-URL:https://capmagellan.com
X-WR-CALDESC:Évènements pour Cap Magellan
REFRESH-INTERVAL;VALUE=DURATION:PT1H
X-Robots-Tag:noindex
X-PUBLISHED-TTL:PT1H
BEGIN:VTIMEZONE
TZID:Europe/Paris
BEGIN:DAYLIGHT
TZOFFSETFROM:+0100
TZOFFSETTO:+0200
TZNAME:CEST
DTSTART:20240331T010000
END:DAYLIGHT
BEGIN:STANDARD
TZOFFSETFROM:+0200
TZOFFSETTO:+0100
TZNAME:CET
DTSTART:20241027T010000
END:STANDARD
BEGIN:DAYLIGHT
TZOFFSETFROM:+0100
TZOFFSETTO:+0200
TZNAME:CEST
DTSTART:20250330T010000
END:DAYLIGHT
BEGIN:STANDARD
TZOFFSETFROM:+0200
TZOFFSETTO:+0100
TZNAME:CET
DTSTART:20251026T010000
END:STANDARD
BEGIN:DAYLIGHT
TZOFFSETFROM:+0100
TZOFFSETTO:+0200
TZNAME:CEST
DTSTART:20260329T010000
END:DAYLIGHT
BEGIN:STANDARD
TZOFFSETFROM:+0200
TZOFFSETTO:+0100
TZNAME:CET
DTSTART:20261025T010000
END:STANDARD
END:VTIMEZONE
BEGIN:VEVENT
DTSTART;TZID=Europe/Paris:20251010T210000
DTEND;TZID=Europe/Paris:20251010T230000
DTSTAMP:20260421T165048
CREATED:20250922T100351Z
LAST-MODIFIED:20250923T091605Z
UID:45443-1760130000-1760137200@capmagellan.com
SUMMARY:Liniker à Lisbonne & Porto
DESCRIPTION:Vendredi 10 octobre à 21h\nau MEO Arena\, Lisbonne \nEn octobre 2025\, la chanteuse brésilienne Liniker sera en tournée pour présenter Caju\, son deuxième album\, le 10 octobre à la MEO Arena de Lisbonne\, puis le 11 à la Super Bock Arena ¬- Pavilhão Rosa Mota de Porto. Après des dates déjà très remarquées à Londres\, Paris et Amsterdam\, elle revient dans son nom propre pour deux soirées puissantes\, sensibles et célébrées.
URL:https://capmagellan.com/event/liniker-a-lisbonne-porto/
LOCATION:MEO Arena\, Lisbonne
CATEGORIES:Brésil,concert,Musique,Portugal
ATTACH;FMTTYPE=image/jpeg:https://capmagellan.com/wp-content/uploads/2023/07/Visuel-Concert-1.jpg
END:VEVENT
BEGIN:VEVENT
DTSTART;TZID=Europe/Paris:20251011T210000
DTEND;TZID=Europe/Paris:20251011T220000
DTSTAMP:20260421T165048
CREATED:20250922T101229Z
LAST-MODIFIED:20250923T092131Z
UID:45446-1760216400-1760220000@capmagellan.com
SUMMARY:Liniker à Lisbonne & Porto
DESCRIPTION:Samedi 11 octobre à 21h\nSuper Bock Arena\, Pavilhão Rosa Mota\, Porto \nEn octobre 2025\, la chanteuse brésilienne Liniker sera en tournée pour présenter Caju\, son deuxième album\, le 10 octobre à la MEO Arena de Lisbonne\, puis le 11 à la Super Bock Arena ¬- Pavilhão Rosa Mota de Porto. Après des dates déjà très remarquées à Londres\, Paris et Amsterdam\, elle revient dans son nom propre pour deux soirées puissantes\, sensibles et célébrées.
URL:https://capmagellan.com/event/liniker-a-lisbonne-porto-2/
LOCATION:Super Bock Arena\,   Pavilhão Rosa Mota\, Porto
CATEGORIES:Brésil,Concours,Musique,Portugal
ATTACH;FMTTYPE=image/jpeg:https://capmagellan.com/wp-content/uploads/2023/07/Visuel-Concert-1.jpg
END:VEVENT
BEGIN:VEVENT
DTSTART;TZID=Europe/Paris:20251016T203000
DTEND;TZID=Europe/Paris:20251016T223000
DTSTAMP:20260421T165048
CREATED:20250923T124907Z
LAST-MODIFIED:20250923T124907Z
UID:45498-1760646600-1760653800@capmagellan.com
SUMMARY:Concert pour les francophones de Lagos
DESCRIPTION:Le jeudi 16 octobre à 20h30\nCentre culturel de Lagos \nAccueillant des groupes français tels que « Panam’s Band » (venant de Paris spécifiquement pour vous !)\, ce concert se déroulera pendant la semaine du « Film français » à Lagos et a reçu le soutien du Ministère de l’Europe et des Affaires Étrangères. \n Billetterie ouverte via le site BOL.PT ou directement au Centre culturel de Lagos
URL:https://capmagellan.com/event/concert-pour-les-francophones-de-lagos/
LOCATION:Centre culturel de Lagos
CATEGORIES:concert,Portugal
END:VEVENT
BEGIN:VEVENT
DTSTART;TZID=Europe/Paris:20251016T203000
DTEND;TZID=Europe/Paris:20251016T223000
DTSTAMP:20260421T165048
CREATED:20250923T130518Z
LAST-MODIFIED:20250923T130518Z
UID:45501-1760646600-1760653800@capmagellan.com
SUMMARY:Concert pour les Francophones de Lagos
DESCRIPTION:Le jeudi 16 octobre à 20h30\nCentre culturel de Lagos \nAccueillant des groupes français tels que « Panam’s Band » (venant de Paris spécifiquement pour vous !)\, ce concert se déroulera pendant la semaine du « Film français » à Lagos et a reçu le soutien du Ministère de l’Europe et des Affaires Étrangères. \n Billetterie ouverte via le site BOL.PT ou directement au Centre culturel de Lagos
URL:https://capmagellan.com/event/concert-pour-les-francophones-de-lagos-2/
LOCATION:Centre culturel de Lagos
CATEGORIES:concert,Musique,Portugal
ATTACH;FMTTYPE=image/jpeg:https://capmagellan.com/wp-content/uploads/2023/07/Visuel-Concert-1.jpg
END:VEVENT
END:VCALENDAR