BEGIN:VCALENDAR
VERSION:2.0
PRODID:-//Cap Magellan - ECPv6.15.20//NONSGML v1.0//EN
CALSCALE:GREGORIAN
METHOD:PUBLISH
X-ORIGINAL-URL:https://capmagellan.com
X-WR-CALDESC:Évènements pour Cap Magellan
REFRESH-INTERVAL;VALUE=DURATION:PT1H
X-Robots-Tag:noindex
X-PUBLISHED-TTL:PT1H
BEGIN:VTIMEZONE
TZID:Europe/Paris
BEGIN:DAYLIGHT
TZOFFSETFROM:+0100
TZOFFSETTO:+0200
TZNAME:CEST
DTSTART:20240331T010000
END:DAYLIGHT
BEGIN:STANDARD
TZOFFSETFROM:+0200
TZOFFSETTO:+0100
TZNAME:CET
DTSTART:20241027T010000
END:STANDARD
BEGIN:DAYLIGHT
TZOFFSETFROM:+0100
TZOFFSETTO:+0200
TZNAME:CEST
DTSTART:20250330T010000
END:DAYLIGHT
BEGIN:STANDARD
TZOFFSETFROM:+0200
TZOFFSETTO:+0100
TZNAME:CET
DTSTART:20251026T010000
END:STANDARD
BEGIN:DAYLIGHT
TZOFFSETFROM:+0100
TZOFFSETTO:+0200
TZNAME:CEST
DTSTART:20260329T010000
END:DAYLIGHT
BEGIN:STANDARD
TZOFFSETFROM:+0200
TZOFFSETTO:+0100
TZNAME:CET
DTSTART:20261025T010000
END:STANDARD
BEGIN:DAYLIGHT
TZOFFSETFROM:+0100
TZOFFSETTO:+0200
TZNAME:CEST
DTSTART:20270328T010000
END:DAYLIGHT
BEGIN:STANDARD
TZOFFSETFROM:+0200
TZOFFSETTO:+0100
TZNAME:CET
DTSTART:20271031T010000
END:STANDARD
END:VTIMEZONE
BEGIN:VEVENT
DTSTART;VALUE=DATE:20251121
DTEND;VALUE=DATE:20260401
DTSTAMP:20260421T134504
CREATED:20251126T151054Z
LAST-MODIFIED:20251126T151125Z
UID:46167-1763683200-1775001599@capmagellan.com
SUMMARY:Théâtre : Spectacle de La Fleur au Fusil de Lionel Cecilio
DESCRIPTION:Du 21 novembre au 31 mars 2026 à la Comédie Bastille\n5 Rue Nicolas Appert\, 75011 Paris \nL’exceptionnel spectacle de Lionel Cecilio est prolongé après avoir connu un succès au théâtre de la Huchette du 11 septembre jusqu’au 18 novembre. Le spectacle retraçant la Révolution des Œillets au Portugal en 1975\, adresse un hommage vibrant à la poésie\, au courage et à l’amour ! Par conséquent\, le spectacle est prolongé du 21 novembre au 31 mars 2026\, dans un théâtre qui peut accueillir plus de monde\, celui de la Comédie Bastille ! \nhttps://comedie-bastille-billetterie.tickandlive.com/reserver/la-fleur-au-fusil/141848 \n  \n 
URL:https://capmagellan.com/event/spectacle-de-la-fleur-au-fusil-de-lionel-cecilio/
CATEGORIES:Convivialité,Famille,Histoire,Portugal,Théâtre
ATTACH;FMTTYPE=image/jpeg:https://capmagellan.com/wp-content/uploads/2025/11/affiche-la-fleur-au-fusil-prolong.jpg
END:VEVENT
BEGIN:VEVENT
DTSTART;TZID=Europe/Paris:20251214T150000
DTEND;TZID=Europe/Paris:20251214T170000
DTSTAMP:20260421T134504
CREATED:20251208T134600Z
LAST-MODIFIED:20251208T134600Z
UID:46346-1765724400-1765731600@capmagellan.com
SUMMARY:Concert de Marta Pereira Da Costa à Paris
DESCRIPTION:Le dimanche 14 décembre à 15h au Théâtre des Abbesses \n1 Rue des Abbesses\, 75018 Paris \nRetrouvez Marta Pereira Da Costa au Théâtre des Abbesses\, accompagnée de Ruben Alves\, pour un concert exceptionnel où sa guitare portugaise révèle toute sa voix singulière. \nLien vers la billetterie \n  \n  \n  \n  \n  \n  \n 
URL:https://capmagellan.com/event/concert-de-marta-pereira-da-costa-a-paris/
CATEGORIES:concert,Fado,Famille,Musique,Portugal
ATTACH;FMTTYPE=image/jpeg:https://capmagellan.com/wp-content/uploads/2025/12/tdv-pub-marta-bat-meilleure-definition-page-0001.jpg
END:VEVENT
END:VCALENDAR