BEGIN:VCALENDAR
VERSION:2.0
PRODID:-//Cap Magellan - ECPv6.15.20//NONSGML v1.0//EN
CALSCALE:GREGORIAN
METHOD:PUBLISH
X-ORIGINAL-URL:https://capmagellan.com
X-WR-CALDESC:Évènements pour Cap Magellan
REFRESH-INTERVAL;VALUE=DURATION:PT1H
X-Robots-Tag:noindex
X-PUBLISHED-TTL:PT1H
BEGIN:VTIMEZONE
TZID:Europe/Paris
BEGIN:DAYLIGHT
TZOFFSETFROM:+0100
TZOFFSETTO:+0200
TZNAME:CEST
DTSTART:20240331T010000
END:DAYLIGHT
BEGIN:STANDARD
TZOFFSETFROM:+0200
TZOFFSETTO:+0100
TZNAME:CET
DTSTART:20241027T010000
END:STANDARD
BEGIN:DAYLIGHT
TZOFFSETFROM:+0100
TZOFFSETTO:+0200
TZNAME:CEST
DTSTART:20250330T010000
END:DAYLIGHT
BEGIN:STANDARD
TZOFFSETFROM:+0200
TZOFFSETTO:+0100
TZNAME:CET
DTSTART:20251026T010000
END:STANDARD
BEGIN:DAYLIGHT
TZOFFSETFROM:+0100
TZOFFSETTO:+0200
TZNAME:CEST
DTSTART:20260329T010000
END:DAYLIGHT
BEGIN:STANDARD
TZOFFSETFROM:+0200
TZOFFSETTO:+0100
TZNAME:CET
DTSTART:20261025T010000
END:STANDARD
END:VTIMEZONE
BEGIN:VEVENT
DTSTART;VALUE=DATE:20250123
DTEND;VALUE=DATE:20250913
DTSTAMP:20260422T045912
CREATED:20250429T144335Z
LAST-MODIFIED:20250429T144335Z
UID:44084-1737590400-1757721599@capmagellan.com
SUMMARY:Parfums de Lisbonne 2025
DESCRIPTION:Du jeudi 23 janvier au vendredi 12 septembre \nDepuis 18 ans\, Parfums de Lisbonne jongle entre la capitale française et la capitale portugaise. Plus qu’un festival\, c’est un événement artistique et humain entre deux cultures qui se parlent\, se reconnaissent et s’enrichissent mutuellement. Porté par la compagnie bilingue Cá e Lá\, ce rendez-vous singulier revient en 2025 avec une édition vibrante autour d’un thème fort : Artivismes / Artivismos. \nProgramme complet : https://parfumsdelisbonne.com/programme/
URL:https://capmagellan.com/event/parfums-de-lisbonne-2025/
CATEGORIES:Convivialité,Exposition,Festival,Littérature,Portugal
ATTACH;FMTTYPE=image/webp:https://capmagellan.com/wp-content/uploads/2025/04/pdl25-cover-fb-ok-200dpi-mai-jui.webp
END:VEVENT
BEGIN:VEVENT
DTSTART;TZID=Europe/Paris:20250312T190000
DTEND;TZID=Europe/Paris:20250312T230000
DTSTAMP:20260422T045912
CREATED:20250304T144246Z
LAST-MODIFIED:20250304T145135Z
UID:43796-1741806000-1741820400@capmagellan.com
SUMMARY:CONCERT Ana Lua Caiano à La Marbrerie
DESCRIPTION:Mercredi 12 mars 2025\, 19h\nLa Marbrerie\n21 rue Alexis Lepère\, 93100 MONTREUIL \nAna Lua Caiano explore la fusion musicale en mêlant la musique traditionnelle portugaise à la musique électronique\, créant des mélodies qui évoquent la tradition\, dans une union avec des synthétiseurs\, des machines à rythmes et des sons tirés de la vie quotidienne. Considérée comme une « nouvelle artiste » avec ses deux premiers EP\, Ana Lua Caiano est actuellement en tournée avec son premier album « Vou ficar neste quadrado »\, édité par le label allemand Glitterbeat. \nLa tournée pour le nouvel album compte déjà plus de 60 dates confirmées au Portugal et au-delà. \nRécemment\, Ana Lua Caiano a fait l’objet d’articles dans les principaux médias internationaux\, tels que le magazine GQ\, le journal français Le Monde\, la publication Songlines\, ainsi que dans l’édition imprimée du magazine The Wire. Des festivals tels que WOMEX\, BIME Bilbao\, FIRA B !\, Live Europe\, Les Trans Musicales\, Roskilde Festival\, Les Sud à Arles\, La Mar de Músicas\, Oslo World Fest ou Reeperbahn\, parmi beaucoup d’autres\, ont déjà compté avec sa présence. \nhttps://lamarbrerie.fr/ana-lua-caiano/
URL:https://capmagellan.com/event/concert-ana-lua-caiano-a-la-marbrerie/
LOCATION:La Marbrerie
CATEGORIES:concert,Portugal
ATTACH;FMTTYPE=image/jpeg:https://capmagellan.com/wp-content/uploads/2023/07/Visuel-Concert-1.jpg
END:VEVENT
END:VCALENDAR