BEGIN:VCALENDAR
VERSION:2.0
PRODID:-//Cap Magellan - ECPv6.15.20//NONSGML v1.0//EN
CALSCALE:GREGORIAN
METHOD:PUBLISH
X-ORIGINAL-URL:https://capmagellan.com
X-WR-CALDESC:Évènements pour Cap Magellan
REFRESH-INTERVAL;VALUE=DURATION:PT1H
X-Robots-Tag:noindex
X-PUBLISHED-TTL:PT1H
BEGIN:VTIMEZONE
TZID:Europe/Paris
BEGIN:DAYLIGHT
TZOFFSETFROM:+0100
TZOFFSETTO:+0200
TZNAME:CEST
DTSTART:20230326T010000
END:DAYLIGHT
BEGIN:STANDARD
TZOFFSETFROM:+0200
TZOFFSETTO:+0100
TZNAME:CET
DTSTART:20231029T010000
END:STANDARD
BEGIN:DAYLIGHT
TZOFFSETFROM:+0100
TZOFFSETTO:+0200
TZNAME:CEST
DTSTART:20240331T010000
END:DAYLIGHT
BEGIN:STANDARD
TZOFFSETFROM:+0200
TZOFFSETTO:+0100
TZNAME:CET
DTSTART:20241027T010000
END:STANDARD
BEGIN:DAYLIGHT
TZOFFSETFROM:+0100
TZOFFSETTO:+0200
TZNAME:CEST
DTSTART:20250330T010000
END:DAYLIGHT
BEGIN:STANDARD
TZOFFSETFROM:+0200
TZOFFSETTO:+0100
TZNAME:CET
DTSTART:20251026T010000
END:STANDARD
END:VTIMEZONE
BEGIN:VEVENT
DTSTART;VALUE=DATE:20240411
DTEND;VALUE=DATE:20240614
DTSTAMP:20260423T130015
CREATED:20240502T144254Z
LAST-MODIFIED:20240502T144254Z
UID:40046-1712793600-1718323199@capmagellan.com
SUMMARY:ÉVÉNEMENT : LES CHEMINS DE SALGUEIRO MAIA. CHIADO\, CARMO PARIS : LES ARTS DANS LA SPHÈRE PUBLIQUE
DESCRIPTION:Du 11 avril au 13 juin \nà la Maison du Portugal – André de Gouveia\,  \n7 P\, Maison du Portugal – André de GOUVEIA\, Bd Jourdan\, 75014 Paris \nEntrée libre dans la limite des places disponibles. \nDans le cadre de la célébration des 50 ans de la Révolution des Œillets\, la Maison du Portugal – André de Gouveia accueille un cycle de conférences coordonné par Ana Paixão\, ainsi que le lancement du livre et l’inauguration de l’exposition Chiado\, Carmo\, Paris et les chemins de Salgueiro Maia. Les arts dans la sphère publique coordonnés par José Quaresma. \nProgramme du cycle de conférences :\nAlicja Habisiak-Matczak (par visio) – Through the prism of the carnation revolution – Polish reflections on the struggle for freedom and resistance to dictatorship\nEvgenyia Hristova (par visio) – The representation of the theme ‘7 lives for freedom- I fratelli Cervi’\, Bologna Academy of Fine Arts\nChristophe Araújo – O passado na ponta da pena. Liberdades e censuras nas práticas historiográficas antes e depois do 25 de abril de 1974\nFernando António Baptista Pereira – A casa da cidadania. Salgueiro Maia\, em Castelo de Vide\, um novo tipo de museu\nEmília Ferreira – Curadoria do futuro : portas abertas para a possibilidade\nOrlando Farya et Claudia Colares – Tanto mar\nFernando Rosa Dias – Impactos do 25 de abril na arte portuguesa : suspensão\, mudanças e possibilidades\nJosé Quaresma – A visão de Maia \nRetrouvez plus d’informations sur leur site.\n 
URL:https://capmagellan.com/event/evenement-les-chemins-de-salgueiro-maia-chiado-carmo-paris-les-arts-dans-la-sphere-publique/
LOCATION:7 P\, Maison du Portugal – André de GOUVEIA\, Bd Jourdan\, Paris\, 75014\, France
CATEGORIES:Conférence,Littérature
ATTACH;FMTTYPE=image/png:https://capmagellan.com/wp-content/uploads/2023/07/Visuel-Culture.png
END:VEVENT
BEGIN:VEVENT
DTSTART;TZID=Europe/Paris:20240505T140000
DTEND;TZID=Europe/Paris:20240505T160000
DTSTAMP:20260423T130015
CREATED:20240502T150524Z
LAST-MODIFIED:20240502T150524Z
UID:40050-1714917600-1714924800@capmagellan.com
SUMMARY:ÉVÉNEMENT : CÉRÉMONIE DE REMISE DES PRIX DU CONCOURS « RÉVOLUTION DES ŒILLETS\, 25 AVRIL 1974 »
DESCRIPTION:Le 5 mai à 14h \nà la Miason du Portugal – André de Gouveia \n7 P\, Maison du Portugal – André de GOUVEIA\, Bd Jourdan\, 75014 Paris \nEntrée libre dans la limite des places disponibles. \nPour célébrer le cinquantième anniversaire de la Révolution des Œillets\, l’ADEPBA (Association pour le Développement des Études Portugaises\, Brésiliennes\, d’Afrique et d’Asie lusophones)\, en collaboration avec la Coordination de l’Enseignement portugais en France\, a organisé le concours « Révolution des Œillets\, 25 avril 1974 » pour les élèves qui étudient le portugais à l’école primaire\, dans les collèges et les lycées d’enseignement général\, technologique et professionnel publics ou privés sous-contrat en France métropolitaine et d’Outre-Mer. Ils y sont invités à donner libre cours à leur imagination et à leur créativité en proposant un travail – sous forme numérique de préférence – pour montrer les acquis de ce mouvement populaire libérateur. \nLa cérémonie de remise des prix aura lieu à la Maison du Portugal – André de Gouveia le dimanche 5 mai\, Journée mondiale de la langue portugaise. Les élèves primés seront accompagnés de leurs parents et de leurs professeurs. \nRetrouvez plus d’informations sur leur site. 
URL:https://capmagellan.com/event/evenement-ceremonie-de-remise-des-prix-du-concours-revolution-des-oeillets-25-avril-1974/
LOCATION:7 P\, Maison du Portugal – André de GOUVEIA\, Bd Jourdan\, Paris\, 75014\, France
ATTACH;FMTTYPE=image/png:https://capmagellan.com/wp-content/uploads/2023/07/Visuel-Culture.png
END:VEVENT
BEGIN:VEVENT
DTSTART;TZID=Europe/Paris:20240514T210000
DTEND;TZID=Europe/Paris:20240514T223000
DTSTAMP:20260423T130015
CREATED:20240502T142231Z
LAST-MODIFIED:20240502T142340Z
UID:40039-1715720400-1715725800@capmagellan.com
SUMMARY:ÉVÉNEMENT : Performance “Das Tripas Coração”
DESCRIPTION:Le 14 mai à 21h  \nNa beira rio\, Rua do Ouro\, nº223 – Porto  \nInicio as 21h na beira rio\, rua do Ouro\, n°233 e continuação no Auditório Grupo Musical de Miragaia. \nReservação de bilhetes : 3.50 euros (levantamento de bilhetes é feito no dia do espetáculo\, a partir das 20h\, no Auditório Grupo Musical de Miragaia) \nDas Tripas Coração é uma performance criada e interpretada por Diana Queirós\, inserida na investigação do mestrado em Artes Cénicas na ESMAE. \nTrata-se de uma performance explorativa\, com foco principal na criação de um objecto cénico e a relação entre o corpo e esse mesmo objecto. Observar o que resta desse corpo quando já não tem a carga do mesmo\, que marcas ficaram\, como reagiram ambos a essa simbiose. \nA carga e o esforço físico exigido\, estão inevitavelmente ligados a um esforço mental\, esta performance alimenta-se também do não palpável para a sua narrativa\, a carga invisível\, que todos carregamos\, umas mais pesadas do que outras\, e propõe-se a de igual modo explorar o que resta de nós quando essa carga desaparece. Será que nos queremos libertar dessa carga quando esse peso é tudo o que conhecemos? \n  \n 
URL:https://capmagellan.com/event/evenement-performance-das-tripas-coracao/
LOCATION:Auditório Grupo Musical de Miragaia\, R. da Arménia\, Porto\, 4050-430
CATEGORIES:Art,Convivialité,Danse
ATTACH;FMTTYPE=image/jpeg:https://capmagellan.com/wp-content/uploads/2024/05/unnamed.jpg
END:VEVENT
BEGIN:VEVENT
DTSTART;TZID=Europe/Paris:20240516T203000
DTEND;TZID=Europe/Paris:20240516T220000
DTSTAMP:20260423T130015
CREATED:20240426T141340Z
LAST-MODIFIED:20240426T141340Z
UID:40023-1715891400-1715896800@capmagellan.com
SUMMARY:CONCERT : Amina Mezaache & Maracuja - Jazz Hybride
DESCRIPTION:Le jeudi 16 mai 2024 à 20h30 au studio de l’ermitage\, 8 Rue de l’Ermitage\, 75020 Paris \nAchète ton billet pour la sortie de l’album : Vortex (Veston Léger/Inouïe Distribution – 2024) \nAprès plus de 10 ans d’expérimentations et d’aventures\, Maracuja fête la sortie de son 3ème album\, Vortex !\nGrande voyageuse et passionnée de rencontres musicales\, Amina Mezaache nous livre un carnet de voyage singulier\, nourri d’hybridations entre ses racines africaines\, son amour pour les rythmiques brésiliennes et son attachement au jazz toujours en mouvement.\nUn vent nouveau souffle sur Maracuja ! Venez découvrir le son profond de la flûte peule\, le rap puissant d’Edgar Sekloka\, les compositions psychédéliques et joyeuses où se mêlent l’accordéon\, la trompette\, le sousaphone\, la guitare et les percussions à foison ! \n 
URL:https://capmagellan.com/event/concert-amina-mezaache-maracuja-jazz-hybride/
LOCATION:studio de l’ermitage\, 8 Rue de l'Ermitage\, 75020 Paris\, 75020\, France
CATEGORIES:Brésil,concert,Musique
ATTACH;FMTTYPE=image/jpeg:https://capmagellan.com/wp-content/uploads/2023/07/Visuel-Concert-1.jpg
END:VEVENT
END:VCALENDAR