BEGIN:VCALENDAR
VERSION:2.0
PRODID:-//Cap Magellan - ECPv6.15.20//NONSGML v1.0//EN
CALSCALE:GREGORIAN
METHOD:PUBLISH
X-ORIGINAL-URL:https://capmagellan.com
X-WR-CALDESC:Évènements pour Cap Magellan
REFRESH-INTERVAL;VALUE=DURATION:PT1H
X-Robots-Tag:noindex
X-PUBLISHED-TTL:PT1H
BEGIN:VTIMEZONE
TZID:Europe/Paris
BEGIN:DAYLIGHT
TZOFFSETFROM:+0100
TZOFFSETTO:+0200
TZNAME:CEST
DTSTART:20230326T010000
END:DAYLIGHT
BEGIN:STANDARD
TZOFFSETFROM:+0200
TZOFFSETTO:+0100
TZNAME:CET
DTSTART:20231029T010000
END:STANDARD
BEGIN:DAYLIGHT
TZOFFSETFROM:+0100
TZOFFSETTO:+0200
TZNAME:CEST
DTSTART:20240331T010000
END:DAYLIGHT
BEGIN:STANDARD
TZOFFSETFROM:+0200
TZOFFSETTO:+0100
TZNAME:CET
DTSTART:20241027T010000
END:STANDARD
BEGIN:DAYLIGHT
TZOFFSETFROM:+0100
TZOFFSETTO:+0200
TZNAME:CEST
DTSTART:20250330T010000
END:DAYLIGHT
BEGIN:STANDARD
TZOFFSETFROM:+0200
TZOFFSETTO:+0100
TZNAME:CET
DTSTART:20251026T010000
END:STANDARD
END:VTIMEZONE
BEGIN:VEVENT
DTSTART;VALUE=DATE:20240415
DTEND;VALUE=DATE:20240504
DTSTAMP:20260423T135253
CREATED:20240426T094649Z
LAST-MODIFIED:20240426T094649Z
UID:39994-1713139200-1714780799@capmagellan.com
SUMMARY:EXPOSITION : "Missak Manouchian - Art\, Histoire\, Mémoire" au Musée de la Résistance Nationale
DESCRIPTION:Du 15 avril au 3 mai    \nAu Musée de la Résistance Nationale\, \n40 quai Victor Hugo\, 94500 Champigny-sur-Marne \nEntrée libre et gratuite. \nExposition réaliser par MJC – Les Hauts de Belleville \nRetrouvez plus d’informations sur leur site\, Facebook et Instagram !
URL:https://capmagellan.com/event/exposition-missak-manouchian-art-histoire-memoire-au-musee-de-la-resistance-nationale/
LOCATION:Musée de la Résistance\, 40 quai Victor Hugo\, Champigny-sur-Marne\, 94500
CATEGORIES:Art,Exposition,Histoire
ATTACH;FMTTYPE=image/jpeg:https://capmagellan.com/wp-content/uploads/2024/04/16_page-0001.jpg
END:VEVENT
BEGIN:VEVENT
DTSTART;TZID=Europe/Paris:20240425T190000
DTEND;TZID=Europe/Paris:20240428T220000
DTSTAMP:20260423T135253
CREATED:20240416T084030Z
LAST-MODIFIED:20240416T084030Z
UID:39838-1714071600-1714341600@capmagellan.com
SUMMARY:Commémoration du 25 avril à Pontault-Combault
DESCRIPTION:3 expositions visibles pendant les 4 jours : « Murais de Abril » / « Postais de Abril » / « Militaires d’Avril» \n\nau siège social\,\nen mairie :  Salle madame Sans Gène et cour extérieure\n\n2 séances Cinéma : \n\n« Capitaines d’Avril »\, le 25/04 : 19h30\n« Nome »\, le 28/04 17h00\n\nUn concert de la chorale VENTO SUESTE\, sur la base des textes de la pièce de théâtre de Joaquim Pires « Enfin Avril ! » \n\nle 26/04 : 20h\nSalle madame Sans Gène :\n\nAttention : sur réservation par retour de contact@apcs77.fr ou par tel : 01 70 10 41 26; \nLe 27/04 à 15h00 : \n\nLa remise des certificats de langue étrangères\, aux élèves de l’Institut lusophone suivie de :\nL’inauguration de l’allée piétonne\n\nEt des conférences débats en présence de :   \n\nMario QUEDA GOMES pour son roman « Une odyssée portugaise (presque ordinaire) »\nMadeleine PEREIRA\, auteure\, pour sa 1ère bande-dessinée « Borboleta »\, publiée le 3 avril \nUne cérémonie officielle (sur invitation) en présence de Monsieur l’Ambassadeur du Portugal\, et de Nathalie Afonso\, qui dévoilera à une toile spécialement créée cette occasion. \n\nCette cérémonie sera suivie des concerts de SOU ALAM et TEREZA CARVALHO.  \nLes détails seront publiés au fur et à mesure sur les réseaux sociaux ! \nN’hésitez pas à suivre les pages FaceBook / Instagram de l’APCS ! et notez d’ores et déjà ces dates sur votre agenda !
URL:https://capmagellan.com/event/commemoration-du-25-avril-a-pontault-combault/
LOCATION:mairie de pontault combault\, 95 Avenue de la République\,\, Pontault-Combault\, 77340\, France
CATEGORIES:Cinéma,concert,Conférence,Exposition,Histoire
ATTACH;FMTTYPE=image/png:https://capmagellan.com/wp-content/uploads/2023/07/Visuel-Culture.png
END:VEVENT
BEGIN:VEVENT
DTSTART;TZID=Europe/Paris:20240425T200000
DTEND;TZID=Europe/Paris:20240425T223000
DTSTAMP:20260423T135253
CREATED:20240329T142413Z
LAST-MODIFIED:20240411T093039Z
UID:39568-1714075200-1714084200@capmagellan.com
SUMMARY:MUSIQUE : Journée de fête et de musique lusophone au Théâtre de la Ville
DESCRIPTION:Le 25 avril à 20h\nThéâtre de la Ville – Sarah-Bernhardt\, 2 Pl. du Châtelet\, 75004 Paris \nPendant la dictature\, beaucoup d’artistes (parfois exilés) militèrent contre le régime et son oppression : Sophia de Mello Breyner\, Mário Cesariny\, José Mário Branco\, José Afonso\, Luis Cília\, Maria Teresa Horta… C’est à ces artistes-là que nous souhaitons rendre hommage en convoquant la jeune scène portugaise qui lui est héritière. Une occasion de parler de jeunesse et de mémoire\, de libertés et de poésie grâce à des concerts\, débats\, lectures et arts de tout le Portugal. Avec Maria Reis\, Africa Negra\, Tânia Carvalho et Joana Gama \nLien vers le site officiel.
URL:https://capmagellan.com/event/musique-journee-de-fete-et-de-musique-lusophone-au-theatre-de-la-ville/
LOCATION:théatre de la ville de paris\, 2 Place du Châtelet\, Paris\, 75004\, France
CATEGORIES:citoyenneté,concert,Convivialité,Histoire,Musique
ATTACH;FMTTYPE=image/jpeg:https://capmagellan.com/wp-content/uploads/2023/07/Visuel-Musique.jpg
END:VEVENT
END:VCALENDAR