BEGIN:VCALENDAR
VERSION:2.0
PRODID:-//Cap Magellan - ECPv6.15.20//NONSGML v1.0//EN
CALSCALE:GREGORIAN
METHOD:PUBLISH
X-ORIGINAL-URL:https://capmagellan.com
X-WR-CALDESC:Évènements pour Cap Magellan
REFRESH-INTERVAL;VALUE=DURATION:PT1H
X-Robots-Tag:noindex
X-PUBLISHED-TTL:PT1H
BEGIN:VTIMEZONE
TZID:Europe/Paris
BEGIN:DAYLIGHT
TZOFFSETFROM:+0100
TZOFFSETTO:+0200
TZNAME:CEST
DTSTART:20230326T010000
END:DAYLIGHT
BEGIN:STANDARD
TZOFFSETFROM:+0200
TZOFFSETTO:+0100
TZNAME:CET
DTSTART:20231029T010000
END:STANDARD
BEGIN:DAYLIGHT
TZOFFSETFROM:+0100
TZOFFSETTO:+0200
TZNAME:CEST
DTSTART:20240331T010000
END:DAYLIGHT
BEGIN:STANDARD
TZOFFSETFROM:+0200
TZOFFSETTO:+0100
TZNAME:CET
DTSTART:20241027T010000
END:STANDARD
BEGIN:DAYLIGHT
TZOFFSETFROM:+0100
TZOFFSETTO:+0200
TZNAME:CEST
DTSTART:20250330T010000
END:DAYLIGHT
BEGIN:STANDARD
TZOFFSETFROM:+0200
TZOFFSETTO:+0100
TZNAME:CET
DTSTART:20251026T010000
END:STANDARD
END:VTIMEZONE
BEGIN:VEVENT
DTSTART;VALUE=DATE:20240411
DTEND;VALUE=DATE:20240614
DTSTAMP:20260423T070643
CREATED:20240502T144254Z
LAST-MODIFIED:20240502T144254Z
UID:40046-1712793600-1718323199@capmagellan.com
SUMMARY:ÉVÉNEMENT : LES CHEMINS DE SALGUEIRO MAIA. CHIADO\, CARMO PARIS : LES ARTS DANS LA SPHÈRE PUBLIQUE
DESCRIPTION:Du 11 avril au 13 juin \nà la Maison du Portugal – André de Gouveia\,  \n7 P\, Maison du Portugal – André de GOUVEIA\, Bd Jourdan\, 75014 Paris \nEntrée libre dans la limite des places disponibles. \nDans le cadre de la célébration des 50 ans de la Révolution des Œillets\, la Maison du Portugal – André de Gouveia accueille un cycle de conférences coordonné par Ana Paixão\, ainsi que le lancement du livre et l’inauguration de l’exposition Chiado\, Carmo\, Paris et les chemins de Salgueiro Maia. Les arts dans la sphère publique coordonnés par José Quaresma. \nProgramme du cycle de conférences :\nAlicja Habisiak-Matczak (par visio) – Through the prism of the carnation revolution – Polish reflections on the struggle for freedom and resistance to dictatorship\nEvgenyia Hristova (par visio) – The representation of the theme ‘7 lives for freedom- I fratelli Cervi’\, Bologna Academy of Fine Arts\nChristophe Araújo – O passado na ponta da pena. Liberdades e censuras nas práticas historiográficas antes e depois do 25 de abril de 1974\nFernando António Baptista Pereira – A casa da cidadania. Salgueiro Maia\, em Castelo de Vide\, um novo tipo de museu\nEmília Ferreira – Curadoria do futuro : portas abertas para a possibilidade\nOrlando Farya et Claudia Colares – Tanto mar\nFernando Rosa Dias – Impactos do 25 de abril na arte portuguesa : suspensão\, mudanças e possibilidades\nJosé Quaresma – A visão de Maia \nRetrouvez plus d’informations sur leur site.\n 
URL:https://capmagellan.com/event/evenement-les-chemins-de-salgueiro-maia-chiado-carmo-paris-les-arts-dans-la-sphere-publique/
LOCATION:7 P\, Maison du Portugal – André de GOUVEIA\, Bd Jourdan\, Paris\, 75014\, France
CATEGORIES:Conférence,Littérature
ATTACH;FMTTYPE=image/png:https://capmagellan.com/wp-content/uploads/2023/07/Visuel-Culture.png
END:VEVENT
BEGIN:VEVENT
DTSTART;VALUE=DATE:20240601
DTEND;VALUE=DATE:20240603
DTSTAMP:20260423T070643
CREATED:20240426T110033Z
LAST-MODIFIED:20240426T140735Z
UID:40016-1717200000-1717372799@capmagellan.com
SUMMARY:ÉVÉNEMENT : Festival do Emigrante à Herblay-sur-Seine
DESCRIPTION:Les 1 et 2 juin  \nAu Stade des Beauregards\,  \n131\, 135 Rte de Pierrelaye\, 95220 Herblay-sur-Seine \nPrix du billet : 15 euros/jour \nRetrouvez plus d’informations sur leur site\, Facebook et Instagram.
URL:https://capmagellan.com/event/evenement-festival-do-emigrante-a-herblay-sur-seine/
LOCATION:Herblay-sur-Seine Stade des Beauregard\, 95220\, Herblay-sur-Seine France
CATEGORIES:concert,Convivialité,Danse,Famille,Festival,Musique
ATTACH;FMTTYPE=image/jpeg:https://capmagellan.com/wp-content/uploads/2024/04/A4-FESTIVAL-DO-EMIGRANTE_page-0001.jpeg
END:VEVENT
BEGIN:VEVENT
DTSTART;TZID=Europe/Paris:20240601T130000
DTEND;TZID=Europe/Paris:20240601T190000
DTSTAMP:20260423T070643
CREATED:20240524T125810Z
LAST-MODIFIED:20240524T125832Z
UID:40573-1717246800-1717268400@capmagellan.com
SUMMARY:ÉVÉNEMENT : Rencontre Paris/Lisbonne à la Maison du Portugal à Paris
DESCRIPTION:Le 1ᵉʳ juin de 13h à 19h \nà la Maison du Portugal – André de Gouveia\,  \n7 P\, Maison du Portugal – André de GOUVEIA\, Bd Jourdan\, 75014 Paris \nEn présence des artistes et auteurs : Nathalie Afonso\, Teresa Antunes\, Ernesto Areias\, Santiago Belacqua\, Emílio Morais\, Odette Domingues Ferreira\, Altina Ribeiro\, Manuel do Nascimento\, Susana Pires\, Quitó de Sousa\, Mário Queda Gomes\, Luísa Ramos\, Alexandra Vieira\, Xicofran \nConcert de guitare classique à partir de 16h avec Quitó de Sousa suivi d’un buffet. \nRetrouver plus d’informations sur le site de Citescope.
URL:https://capmagellan.com/event/rencontre-paris-lisbonne-a-la-maison-du-portugal-a-paris/
LOCATION:7 P\, Maison du Portugal – André de GOUVEIA\, Bd Jourdan\, Paris\, 75014\, France
CATEGORIES:concert
ATTACH;FMTTYPE=image/jpeg:https://capmagellan.com/wp-content/uploads/2024/05/000-Cartaz-01-06-2024-V5.jpg
END:VEVENT
BEGIN:VEVENT
DTSTART;TZID=Europe/Paris:20240601T150000
DTEND;TZID=Europe/Paris:20240601T180000
DTSTAMP:20260423T070643
CREATED:20240528T082503Z
LAST-MODIFIED:20240528T082503Z
UID:40597-1717254000-1717264800@capmagellan.com
SUMMARY:ÉVÉNEMENT : Rencontre avec Sarah Luz suivie de l'Heure du Conte avec Sara Novais Nogueira
DESCRIPTION:Le 01/06 de 15h à 18h  \nà la Bibliothèque Gulbenkian\, Maison du Portugal\,  \n7P\, Boulevard Jourdan – 75014 Paris \n15h-16h : Rencontre avec Sarah Luz sur A magia das palavras na língua portuguesa // La magie des mots dans la Langue Portugaise \nDans ce premier temps\, nous aurons l’immense plaisir d’accueillir\, via Zoom\, Sarah Luz fondatrice de la chaîne YouTube Poesia de Cor. Elle nous parlera de la création de son projet. La maman de Sarah\, Susana Luz\, sera également présente pour démontrer aux familles l’importance cruciale du soutien parental aux projets de leurs enfants. \n16h30-18h : L’Heure du Conte avec Sara Novais Nogueira \nDans un deuxième temps\, à partir de 16h30\, Sara Novais Nogueira\, nous proposera une Heure du conte\, avec la lecture de contes/poèmes\, suivie d’un atelier d’expression plastique sur le thème de l’Été. \nRetrouvez plus d’informations sur leur site et leur page Facebook.
URL:https://capmagellan.com/event/evenement-rencontre-avec-sarah-luz-suivie-de-lheure-du-conte-avec-sara-novais-nogueira/
LOCATION:Bibliothèque Gulbenkian\, 7 p.\, bd Jourdan\, Paris\, 75014\, France
CATEGORIES:Conférence,Portugal
ATTACH;FMTTYPE=image/png:https://capmagellan.com/wp-content/uploads/2023/07/Visuel-Culture.png
END:VEVENT
BEGIN:VEVENT
DTSTART;VALUE=DATE:20240609
DTEND;VALUE=DATE:20240616
DTSTAMP:20260423T070643
CREATED:20240524T135025Z
LAST-MODIFIED:20240524T135025Z
UID:40584-1717891200-1718495999@capmagellan.com
SUMMARY:ÉVÉNEMENT : Festival animation Annecy
DESCRIPTION:Du 9 au 15 juin à Annecy \nà Annecy\, 74000 \nLe pays à l’honneur cette année est le Portugal sur le thème de la danse.\nRégina PESSOA née en 1969 au Portugal étudie la peinture puis s’oriente vers l’animation. Très jeune\, elle passse beaucoup de temps à lire et écouter les histoires des anciens\, elle dessinait ainsi ces histoire  inspirantes sur les portes et les murs de la maison de sa grand-mère\, avec comme outil du charbon de bois\, ce qui à déterminera son style graphique très personnalisé proche des\neaux fortes. \nRetrouvez plus d’informations sur leur site et leur page Facebook.
URL:https://capmagellan.com/event/evenement-festival-animation-annecy/
LOCATION:annecy\, Annecy\, 74000
CATEGORIES:Cinéma,Festival,Portugal
ATTACH;FMTTYPE=image/jpeg:https://capmagellan.com/wp-content/uploads/2024/05/Affiche_60x40cm.jpg
END:VEVENT
BEGIN:VEVENT
DTSTART;TZID=Europe/Paris:20240614T080000
DTEND;TZID=Europe/Paris:20240714T170000
DTSTAMP:20260423T070643
CREATED:20240605T084716Z
LAST-MODIFIED:20240605T084716Z
UID:40711-1718352000-1720976400@capmagellan.com
SUMMARY:Agenda Football Euro 2024 en Allemagne
DESCRIPTION:Le Championnat d’Europe de l’UEFA de football 2024 est la 17ᵉ édition du Championnat d’Europe de football. \nL’UEFA EURO 2024 commence à Munich le vendredi 14 juin et se termine à Berlin\, le dimanche 14 juillet. \nRetrouve ici les dates prévues des matchs du Portugal (Groupe F\, Turquie\, Géorgie et République tchèque) : \n\n18 Juin : Portugal x République Tchèque (à Leipzig\, 21h)\n22 Juin : Turquie x Portugal (à Dortmund\, 18h)\n26 Juin : Géorgie x Portugal (à Gelsenkirchen\, 21h)\n\nLien vers le site officiel. \nCrédit Photo : @Michal Jarmoluk de Pixabay \n  \n 
URL:https://capmagellan.com/event/agenda-football-euro-2024-en-allemagne/
CATEGORIES:Portugal,Sport
ATTACH;FMTTYPE=image/jpeg:https://capmagellan.com/wp-content/uploads/2024/06/p22-@Michal-Jarmoluk-de-Pixabay.jpg
END:VEVENT
BEGIN:VEVENT
DTSTART;VALUE=DATE:20240615
DTEND;VALUE=DATE:20240701
DTSTAMP:20260423T070643
CREATED:20240524T133026Z
LAST-MODIFIED:20240603T143851Z
UID:40581-1718409600-1719791999@capmagellan.com
SUMMARY:FESTIVAL Parfums de Lisbonne
DESCRIPTION:Du 15 juin au 30 juin  \n2024 : MOUVEMENTS / MOVIMENTOS \nEn 2024\, la 17e édition du festival d’urbanités croisées entre Paris et Lisbonne reviendra sur les 50 ans de la révolution des Œillets d’avril 1974. La thématique du festival\, Mouvements / Movimentos\, est propice à l’approfondissement de la réflexion concernant à la fois l’événement constitué par la révolution des Œillets\, les temps qui ont caractérisé la dictature et ceux qui constituent depuis 50 ans la démocratie portugaise.\nNous souhaitons aborder la question du mouvement concernant les résistances\, les soulèvements (Didi-Huberman\, 2019)\, les déplacements physiques\, la pensée et les styles artistiques. L’approche des représentations de ces phénomènes sera pluridisciplinaire\, embrassant les champs de la littérature (en ses diverses formes)\, des arts (plastiques\, du spectacle\, du cinéma)\, de l’histoire culturelle et des idées. \nRetrouvez plus d’informations sur leur site.
URL:https://capmagellan.com/event/evenement-festival-parfums-de-lisbonne/
CATEGORIES:Art,Cinéma,Danse,Portugal,Théâtre
ATTACH;FMTTYPE=image/jpeg:https://capmagellan.com/wp-content/uploads/2024/05/PDL24-depliant-A6-pages-V4-1_page-0001.jpg
END:VEVENT
END:VCALENDAR