BEGIN:VCALENDAR
VERSION:2.0
PRODID:-//Cap Magellan - ECPv6.15.20//NONSGML v1.0//EN
CALSCALE:GREGORIAN
METHOD:PUBLISH
X-ORIGINAL-URL:https://capmagellan.com
X-WR-CALDESC:Évènements pour Cap Magellan
REFRESH-INTERVAL;VALUE=DURATION:PT1H
X-Robots-Tag:noindex
X-PUBLISHED-TTL:PT1H
BEGIN:VTIMEZONE
TZID:Europe/Paris
BEGIN:DAYLIGHT
TZOFFSETFROM:+0100
TZOFFSETTO:+0200
TZNAME:CEST
DTSTART:20230326T010000
END:DAYLIGHT
BEGIN:STANDARD
TZOFFSETFROM:+0200
TZOFFSETTO:+0100
TZNAME:CET
DTSTART:20231029T010000
END:STANDARD
BEGIN:DAYLIGHT
TZOFFSETFROM:+0100
TZOFFSETTO:+0200
TZNAME:CEST
DTSTART:20240331T010000
END:DAYLIGHT
BEGIN:STANDARD
TZOFFSETFROM:+0200
TZOFFSETTO:+0100
TZNAME:CET
DTSTART:20241027T010000
END:STANDARD
BEGIN:DAYLIGHT
TZOFFSETFROM:+0100
TZOFFSETTO:+0200
TZNAME:CEST
DTSTART:20250330T010000
END:DAYLIGHT
BEGIN:STANDARD
TZOFFSETFROM:+0200
TZOFFSETTO:+0100
TZNAME:CET
DTSTART:20251026T010000
END:STANDARD
END:VTIMEZONE
BEGIN:VEVENT
DTSTART;TZID=Europe/Paris:20240425T200000
DTEND;TZID=Europe/Paris:20240425T223000
DTSTAMP:20260420T170034
CREATED:20240329T142413Z
LAST-MODIFIED:20240411T093039Z
UID:39568-1714075200-1714084200@capmagellan.com
SUMMARY:MUSIQUE : Journée de fête et de musique lusophone au Théâtre de la Ville
DESCRIPTION:Le 25 avril à 20h\nThéâtre de la Ville – Sarah-Bernhardt\, 2 Pl. du Châtelet\, 75004 Paris \nPendant la dictature\, beaucoup d’artistes (parfois exilés) militèrent contre le régime et son oppression : Sophia de Mello Breyner\, Mário Cesariny\, José Mário Branco\, José Afonso\, Luis Cília\, Maria Teresa Horta… C’est à ces artistes-là que nous souhaitons rendre hommage en convoquant la jeune scène portugaise qui lui est héritière. Une occasion de parler de jeunesse et de mémoire\, de libertés et de poésie grâce à des concerts\, débats\, lectures et arts de tout le Portugal. Avec Maria Reis\, Africa Negra\, Tânia Carvalho et Joana Gama \nLien vers le site officiel.
URL:https://capmagellan.com/event/musique-journee-de-fete-et-de-musique-lusophone-au-theatre-de-la-ville/
LOCATION:théatre de la ville de paris\, 2 Place du Châtelet\, Paris\, 75004\, France
CATEGORIES:citoyenneté,concert,Convivialité,Histoire,Musique
ATTACH;FMTTYPE=image/jpeg:https://capmagellan.com/wp-content/uploads/2023/07/Visuel-Musique.jpg
END:VEVENT
BEGIN:VEVENT
DTSTART;TZID=Europe/Paris:20240425T200000
DTEND;TZID=Europe/Paris:20240425T230000
DTSTAMP:20260420T170034
CREATED:20240416T084227Z
LAST-MODIFIED:20240416T084227Z
UID:39837-1714075200-1714086000@capmagellan.com
SUMMARY:Commémoration cinquantenaire du 25 avril à Pau
DESCRIPTION:Le 25 avril à partir de 20h \nCinéma le Méliès – 15 Place du Foirail\, 64000 Pau \nPrix du billet : 10 euros  \nProgramme :  \n\nÀ 20 h : documentaire Le Batalha de Porte de Pedro Lino\nÀ 21 h : concert de fado par la fadista Reynolda\n\nRetrouvez plus d’informations sur leur page Facebook. \n 
URL:https://capmagellan.com/event/commemoration-cinquantenaire-du-25-avril-a-pau/
LOCATION:Cinéma Le Méliès\, 15 place du Foirail\, Pau\, 64000
CATEGORIES:Cinéma,concert
ATTACH;FMTTYPE=image/jpeg:https://capmagellan.com/wp-content/uploads/2024/04/film-concert-fado-25-avril-2024.jpg
END:VEVENT
BEGIN:VEVENT
DTSTART;TZID=Europe/Paris:20240426T163000
DTEND;TZID=Europe/Paris:20240426T210000
DTSTAMP:20260420T170034
CREATED:20240416T085559Z
LAST-MODIFIED:20240416T085559Z
UID:39849-1714149000-1714165200@capmagellan.com
SUMMARY:Commémoration cinquantenaire du 25 avril
DESCRIPTION:Le 26 avril à partir de 16 h 30 \nMédiathèque André Labarrère de Pau – 10 Pl. Marguerite Laborde\, 64000 Pau \nEntrée libre \nProgramme :  \n\nÀ 16 h 30 : Vernissage de l’exposition\nÀ 18 h : Concert (chants révolutionnaires) du Trio Blimunda dans l’auditorium de la médiathèque\n\nRetrouvez plus d’informations sur leur page Facebook.
URL:https://capmagellan.com/event/commemoration-cinquantenaire-du-25-avril/
LOCATION:Médiathèque André Labarrère de Pau\, 10 Pl. Marguerite Laborde\, Pau\, 64000
CATEGORIES:concert,Exposition,Vernissage
ATTACH;FMTTYPE=image/jpeg:https://capmagellan.com/wp-content/uploads/2024/04/expo-concert-26-Avril-2024_page-0001.jpg
END:VEVENT
END:VCALENDAR