BEGIN:VCALENDAR
VERSION:2.0
PRODID:-//Cap Magellan - ECPv6.15.20//NONSGML v1.0//EN
CALSCALE:GREGORIAN
METHOD:PUBLISH
X-ORIGINAL-URL:https://capmagellan.com
X-WR-CALDESC:Évènements pour Cap Magellan
REFRESH-INTERVAL;VALUE=DURATION:PT1H
X-Robots-Tag:noindex
X-PUBLISHED-TTL:PT1H
BEGIN:VTIMEZONE
TZID:Europe/Paris
BEGIN:DAYLIGHT
TZOFFSETFROM:+0100
TZOFFSETTO:+0200
TZNAME:CEST
DTSTART:20230326T010000
END:DAYLIGHT
BEGIN:STANDARD
TZOFFSETFROM:+0200
TZOFFSETTO:+0100
TZNAME:CET
DTSTART:20231029T010000
END:STANDARD
BEGIN:DAYLIGHT
TZOFFSETFROM:+0100
TZOFFSETTO:+0200
TZNAME:CEST
DTSTART:20240331T010000
END:DAYLIGHT
BEGIN:STANDARD
TZOFFSETFROM:+0200
TZOFFSETTO:+0100
TZNAME:CET
DTSTART:20241027T010000
END:STANDARD
BEGIN:DAYLIGHT
TZOFFSETFROM:+0100
TZOFFSETTO:+0200
TZNAME:CEST
DTSTART:20250330T010000
END:DAYLIGHT
BEGIN:STANDARD
TZOFFSETFROM:+0200
TZOFFSETTO:+0100
TZNAME:CET
DTSTART:20251026T010000
END:STANDARD
END:VTIMEZONE
BEGIN:VEVENT
DTSTART;TZID=Europe/Paris:20240614T080000
DTEND;TZID=Europe/Paris:20240714T170000
DTSTAMP:20260420T092648
CREATED:20240605T084716Z
LAST-MODIFIED:20240605T084716Z
UID:40711-1718352000-1720976400@capmagellan.com
SUMMARY:Agenda Football Euro 2024 en Allemagne
DESCRIPTION:Le Championnat d’Europe de l’UEFA de football 2024 est la 17ᵉ édition du Championnat d’Europe de football. \nL’UEFA EURO 2024 commence à Munich le vendredi 14 juin et se termine à Berlin\, le dimanche 14 juillet. \nRetrouve ici les dates prévues des matchs du Portugal (Groupe F\, Turquie\, Géorgie et République tchèque) : \n\n18 Juin : Portugal x République Tchèque (à Leipzig\, 21h)\n22 Juin : Turquie x Portugal (à Dortmund\, 18h)\n26 Juin : Géorgie x Portugal (à Gelsenkirchen\, 21h)\n\nLien vers le site officiel. \nCrédit Photo : @Michal Jarmoluk de Pixabay \n  \n 
URL:https://capmagellan.com/event/agenda-football-euro-2024-en-allemagne/
CATEGORIES:Portugal,Sport
ATTACH;FMTTYPE=image/jpeg:https://capmagellan.com/wp-content/uploads/2024/06/p22-@Michal-Jarmoluk-de-Pixabay.jpg
END:VEVENT
END:VCALENDAR