BEGIN:VCALENDAR
VERSION:2.0
PRODID:-//Cap Magellan - ECPv6.15.20//NONSGML v1.0//EN
CALSCALE:GREGORIAN
METHOD:PUBLISH
X-ORIGINAL-URL:https://capmagellan.com
X-WR-CALDESC:Évènements pour Cap Magellan
REFRESH-INTERVAL;VALUE=DURATION:PT1H
X-Robots-Tag:noindex
X-PUBLISHED-TTL:PT1H
BEGIN:VTIMEZONE
TZID:Europe/Paris
BEGIN:DAYLIGHT
TZOFFSETFROM:+0100
TZOFFSETTO:+0200
TZNAME:CEST
DTSTART:20230326T010000
END:DAYLIGHT
BEGIN:STANDARD
TZOFFSETFROM:+0200
TZOFFSETTO:+0100
TZNAME:CET
DTSTART:20231029T010000
END:STANDARD
BEGIN:DAYLIGHT
TZOFFSETFROM:+0100
TZOFFSETTO:+0200
TZNAME:CEST
DTSTART:20240331T010000
END:DAYLIGHT
BEGIN:STANDARD
TZOFFSETFROM:+0200
TZOFFSETTO:+0100
TZNAME:CET
DTSTART:20241027T010000
END:STANDARD
BEGIN:DAYLIGHT
TZOFFSETFROM:+0100
TZOFFSETTO:+0200
TZNAME:CEST
DTSTART:20250330T010000
END:DAYLIGHT
BEGIN:STANDARD
TZOFFSETFROM:+0200
TZOFFSETTO:+0100
TZNAME:CET
DTSTART:20251026T010000
END:STANDARD
END:VTIMEZONE
BEGIN:VEVENT
DTSTART;TZID=Europe/Paris:20240504T180000
DTEND;TZID=Europe/Paris:20240504T203000
DTSTAMP:20260420T123211
CREATED:20240426T100016Z
LAST-MODIFIED:20240426T100016Z
UID:40001-1714845600-1714854600@capmagellan.com
SUMMARY:ÉVÉNEMENT : Soirée "CAPITAINES D'AVRIL" à Ivry-sur-Seine
DESCRIPTION:Le 4 mai à 18h \nAu cinéma municipal le Luxy à Ivry-sur-Seine \n77 Av. Georges Gosnat\, 94200 Ivry-sur-Seine \nPrix du billet : 3\,50 euros \nLe Luxy\, cinéma municipal d’Ivry sur Seine\, organisera le samedi 4 mai à 18h une séance du film  CAPITAINES D’AVRIL\, de  Maria de Medeiros\, suivie d’un pot de l’amitié aux saveurs du Portugal offert par l’association Alegres Do Norte. Cette séance a lieu dans le cadre de la commémoration des 50 ans du 25 avril 1974. \nUn mot sur le film : Le 25 avril 1974\, ou la Révolution des œillets\, voit la chute de la dictature lazariste qui pesait sur le Portugal depuis 1933. À travers plusieurs personnages qui vivent ce moment extraordinaire de l’Histoire\, Maria de Medeiros fait le portrait d’un pays en plein chavirement\, au moment où la liberté semble enfin pouvoir poindre. \nRetrouvez plus d’informations sur leur site et Facebook.
URL:https://capmagellan.com/event/evenement-soiree-capitaines-davril-a-ivry-sur-seine/
LOCATION:le Luxy\, 77 Av. Georges Gosnat\, Ivry-sur-Seine\, 94200
CATEGORIES:Cinéma,Convivialité,Histoire
ATTACH;FMTTYPE=image/jpeg:https://capmagellan.com/wp-content/uploads/2023/07/Visuel-Cinema.jpg
END:VEVENT
END:VCALENDAR