BEGIN:VCALENDAR
VERSION:2.0
PRODID:-//Cap Magellan - ECPv6.15.20//NONSGML v1.0//EN
CALSCALE:GREGORIAN
METHOD:PUBLISH
X-ORIGINAL-URL:https://capmagellan.com
X-WR-CALDESC:Évènements pour Cap Magellan
REFRESH-INTERVAL;VALUE=DURATION:PT1H
X-Robots-Tag:noindex
X-PUBLISHED-TTL:PT1H
BEGIN:VTIMEZONE
TZID:Europe/Paris
BEGIN:DAYLIGHT
TZOFFSETFROM:+0100
TZOFFSETTO:+0200
TZNAME:CEST
DTSTART:20230326T010000
END:DAYLIGHT
BEGIN:STANDARD
TZOFFSETFROM:+0200
TZOFFSETTO:+0100
TZNAME:CET
DTSTART:20231029T010000
END:STANDARD
BEGIN:DAYLIGHT
TZOFFSETFROM:+0100
TZOFFSETTO:+0200
TZNAME:CEST
DTSTART:20240331T010000
END:DAYLIGHT
BEGIN:STANDARD
TZOFFSETFROM:+0200
TZOFFSETTO:+0100
TZNAME:CET
DTSTART:20241027T010000
END:STANDARD
BEGIN:DAYLIGHT
TZOFFSETFROM:+0100
TZOFFSETTO:+0200
TZNAME:CEST
DTSTART:20250330T010000
END:DAYLIGHT
BEGIN:STANDARD
TZOFFSETFROM:+0200
TZOFFSETTO:+0100
TZNAME:CET
DTSTART:20251026T010000
END:STANDARD
END:VTIMEZONE
BEGIN:VEVENT
DTSTART;VALUE=DATE:20240818
DTEND;VALUE=DATE:20240825
DTSTAMP:20260420T080009
CREATED:20240712T135532Z
LAST-MODIFIED:20240712T135532Z
UID:41408-1723939200-1724543999@capmagellan.com
SUMMARY:36e édition des Etats Généraux du film documentaire de Lussas
DESCRIPTION:Du 18 au 24 août 2024\nà Lussas en Auvergne-Rhône-Alpes\n\n\n\nCette 36ᵉ édition la programmation Histoire(s) du documentaire sera consacré au Portugal – avant et après la révolution.\n\nHistoire(s) du documentaire – Le Portugal avant et après la Révolution\n\nComment rendre hommage à la Révolution du 25 avril 1974 sans tomber dans la rhétorique de l’anniversaire ? Raconter l’histoire du documentaire portugais\, des années 1930 aux années 1980\, du fascisme à la démocratie\, est pour nous le meilleur hommage à ce pays et au caractère si unique de son cinéma du réel. On peut considérer qu’au Portugal\, jusqu’aux années 1990\, il n’a pas existé de véritable tradition documentaire. Pendant la dictature\, hors propagande\, il n’existait pas d’organismes de financement ni de possibilité de distribution de films politiquement indépendants. Ainsi\, le Portugal n’a pas développé une véritable école documentaire (comme au Royaume Uni par exemple) et n’a pas contribué aux débats théoriques internationaux des années trente autour du cinéma documentaire. Il n’a pas non plus été touché par la révolution mondiale du cinéma direct des années soixante. Après 1974\, il a fallu du temps pour combler le retard et arrêter de considérer le documentaire seulement comme un terrain de passage pour les cinéastes de fiction\, et le didactisme du cinéma militant n’a pas toujours arrangé les choses. Pourtant\, il y a eu des grands films et de grands réalisateurs\, mais la fulgurante singularité portugaise se trouve ailleurs\, et elle est née de difficultés techniques économiques et des contraintes politiques exercées par la dictature. C’est un cinéma plastique\, un cinéma de l’image et de la mise en scène. Le documentaire est l’œuvre des cinéastes de fiction\, qui rejettent le classicisme naturaliste et pratiquent la dramaturgie du réel. Dans leurs films\, ils cultivent aussi un véritable regard ethnographique\, profondément matérialiste\, attentif aux gestes ancestraux de la culture portugaise.\n\n\nRetrouvez sur ce lien l’avant programme.\nLien vers le site officiel.
URL:https://capmagellan.com/event/36e-edition-des-etats-generaux-du-film-documentaire-de-lussas/
CATEGORIES:Cinéma,Convivialité,Histoire,Portugal
ATTACH;FMTTYPE=image/jpeg:https://capmagellan.com/wp-content/uploads/2023/07/Visuel-Cinema.jpg
END:VEVENT
END:VCALENDAR