BEGIN:VCALENDAR
VERSION:2.0
PRODID:-//Cap Magellan - ECPv6.15.20//NONSGML v1.0//EN
CALSCALE:GREGORIAN
METHOD:PUBLISH
X-ORIGINAL-URL:https://capmagellan.com
X-WR-CALDESC:Évènements pour Cap Magellan
REFRESH-INTERVAL;VALUE=DURATION:PT1H
X-Robots-Tag:noindex
X-PUBLISHED-TTL:PT1H
BEGIN:VTIMEZONE
TZID:Europe/Paris
BEGIN:DAYLIGHT
TZOFFSETFROM:+0100
TZOFFSETTO:+0200
TZNAME:CEST
DTSTART:20230326T010000
END:DAYLIGHT
BEGIN:STANDARD
TZOFFSETFROM:+0200
TZOFFSETTO:+0100
TZNAME:CET
DTSTART:20231029T010000
END:STANDARD
BEGIN:DAYLIGHT
TZOFFSETFROM:+0100
TZOFFSETTO:+0200
TZNAME:CEST
DTSTART:20240331T010000
END:DAYLIGHT
BEGIN:STANDARD
TZOFFSETFROM:+0200
TZOFFSETTO:+0100
TZNAME:CET
DTSTART:20241027T010000
END:STANDARD
BEGIN:DAYLIGHT
TZOFFSETFROM:+0100
TZOFFSETTO:+0200
TZNAME:CEST
DTSTART:20250330T010000
END:DAYLIGHT
BEGIN:STANDARD
TZOFFSETFROM:+0200
TZOFFSETTO:+0100
TZNAME:CET
DTSTART:20251026T010000
END:STANDARD
END:VTIMEZONE
BEGIN:VEVENT
DTSTART;TZID=Europe/Paris:20240419T190000
DTEND;TZID=Europe/Paris:20240419T210000
DTSTAMP:20260423T171226
CREATED:20240418T152439Z
LAST-MODIFIED:20240418T152439Z
UID:39925-1713553200-1713560400@capmagellan.com
SUMMARY:Rencontres croisées "La révolution des œillets au Portugal" avec Jorge Valadas\, Vasco Martins et José Vieira à Paris
DESCRIPTION:Le 19 avril à 19h à la librairie Les Nouveautés \n45 Bis rue du Faubourg du Temple – Paris 10 \nRENCONTRE ET DISCUSSION autour des 50 ans de la révolution des œillets au Portugal en présence de Vasco MARTINS et Jorge VALADAS\, participants au texte-témoignages Exils\, Témoignages d’exilés et de déserteurs portugais\, éd. Chandeigne et José VIEIRA\, auteur de Souvenirs d’un futur radieux\, dans la nouvelle collection des éditions Chandeigne\, Brûle-Frontières. \nPour plus d’informations allez sur ce site.
URL:https://capmagellan.com/event/rencontres-croisees-la-revolution-des-oeillets-au-portugal-avec-jorge-valadas-vasco-martins-et-jose-vieira-a-paris/
LOCATION:librairie Les Nouveautés\, 45 Bis rue du Faubourg du Temple\, paris\, 75010
CATEGORIES:Conférence,Littérature
ATTACH;FMTTYPE=image/png:https://capmagellan.com/wp-content/uploads/2023/07/Visuel-Culture.png
END:VEVENT
END:VCALENDAR