BEGIN:VCALENDAR
VERSION:2.0
PRODID:-//Cap Magellan - ECPv6.15.20//NONSGML v1.0//EN
CALSCALE:GREGORIAN
METHOD:PUBLISH
X-WR-CALNAME:Cap Magellan
X-ORIGINAL-URL:https://capmagellan.com
X-WR-CALDESC:Évènements pour Cap Magellan
REFRESH-INTERVAL;VALUE=DURATION:PT1H
X-Robots-Tag:noindex
X-PUBLISHED-TTL:PT1H
BEGIN:VTIMEZONE
TZID:Europe/Paris
BEGIN:DAYLIGHT
TZOFFSETFROM:+0100
TZOFFSETTO:+0200
TZNAME:CEST
DTSTART:20230326T010000
END:DAYLIGHT
BEGIN:STANDARD
TZOFFSETFROM:+0200
TZOFFSETTO:+0100
TZNAME:CET
DTSTART:20231029T010000
END:STANDARD
BEGIN:DAYLIGHT
TZOFFSETFROM:+0100
TZOFFSETTO:+0200
TZNAME:CEST
DTSTART:20240331T010000
END:DAYLIGHT
BEGIN:STANDARD
TZOFFSETFROM:+0200
TZOFFSETTO:+0100
TZNAME:CET
DTSTART:20241027T010000
END:STANDARD
BEGIN:DAYLIGHT
TZOFFSETFROM:+0100
TZOFFSETTO:+0200
TZNAME:CEST
DTSTART:20250330T010000
END:DAYLIGHT
BEGIN:STANDARD
TZOFFSETFROM:+0200
TZOFFSETTO:+0100
TZNAME:CET
DTSTART:20251026T010000
END:STANDARD
END:VTIMEZONE
BEGIN:VEVENT
DTSTART;TZID=Europe/Paris:20240525T150000
DTEND;TZID=Europe/Paris:20240525T180000
DTSTAMP:20260420T105623
CREATED:20240524T131003Z
LAST-MODIFIED:20240524T131003Z
UID:40577-1716649200-1716660000@capmagellan.com
SUMMARY:ÉVÉNEMENT : Séance dédicaces avec Lise Martins à Montgeron
DESCRIPTION:Le 25 mai de 15h à 18h \nà la Librairie Clément – Au Petit Poucet \n172 Avenue de la République\, 91230 Montgeron \nPour la sortie de son nouveau roman “Escale au Portugal”\, Lise Martins est présence pour une séance de dédicaces à la Librairie Clément – Au Petit Poucet. \nRetrouvez plus d’informations sur leur page Facebook.
URL:https://capmagellan.com/event/evenement-seance-dedicaces-avec-lise-martins-a-montgeron/
LOCATION:librairie clément – au petit poucet\, 172 Avenue de la République\, Montgeron\, 91230
CATEGORIES:Littérature,Portugal
ATTACH;FMTTYPE=image/jpeg:https://capmagellan.com/wp-content/uploads/2024/05/unnamed-1.jpg
END:VEVENT
END:VCALENDAR